BEGIN:VCALENDAR
PRODID:NingEventWidget-v1
VERSION:2.0
METHOD:PUBLISH
BEGIN:VTIMEZONE
TZID:Europe/London
X-LIC-LOCATION:Europe/London
BEGIN:DAYLIGHT
TZOFFSETFROM:+0000
TZOFFSETTO:+0100
TZNAME:BST
DTSTART:19700329T010000
RRULE:FREQ=YEARLY;BYMONTH=3;BYDAY=-1SU
END:DAYLIGHT
BEGIN:STANDARD
TZOFFSETFROM:+0100
TZOFFSETTO:+0000
TZNAME:GMT
DTSTART:19701025T020000
RRULE:FREQ=YEARLY;BYMONTH=10;BYDAY=-1SU
END:STANDARD
END:VTIMEZONE
BEGIN:VEVENT
UID:4626108:Event:310305
DTSTAMP:20260422T205649Z
SUMMARY:Guildford Hub Instagram Morning, Guildford
DESCRIPTION:Guildford Hub - Getting creative with Instagram\r\n\r\nIns
 tagram remains one of the fastest growing Social Media platforms. If y
 our business can be depicted in images then you need to be on it. But 
 how do you get it right?\r\n\r\nIn this workshop Social Media expert L
 ucy Dean from Yazaroo will cover:\r\n\r\nThe key differences between a
  personal and business account on Instagram\r\nHow to set up a busines
 s account\r\nAn overview of the Instagram Insights tab\r\nThe main dif
 ferences between Instagram and Facebook\r\nThe Instagram Stories featu
 re\r\nThe Instagram algorithm and how it works\r\nBest practice for us
 ing Instagram ads\r\nUsing third-party apps to extend the longevity of
  your Instagram content\r\nInstagram Influencers\r\n\r\nA Q&A session 
 will follow the presentation to allow a chance for members and visitor
 s to ask questions.\r\nAnd if you are worried your images or photos mi
 ght not be up to scratch, you nbeed to come along to next week's Hub w
 here Chris Mann will show you how to look good in images and video.\r\
 nCOST: Your first visit to the hub is FREE\r\nBOOKING: Please CLICK 
 HERE to book your place\r\nMAP\r\nThere is ample paid car parking nea
 r the venue.\r\n\n\nFor more information visit https://networkinginsur
 rey.co.uk/events/guildford-hub-getting-creative-with-instagram
DTSTART;TZID=Europe/London:20200217T093000
DTEND;TZID=Europe/London:20200217T120000
CATEGORIES:education
LOCATION:The Guildford Harbour Hotel
WEBSITE:https://www.google.com/maps/place/Guildford+Harbour+Hotel/@51.
 2386643,-0.5693003,17z/data=!3m1!4b1!4m5!3m4!1s0x4875d09929b79361:0xf4
 3531b83dcbb1a2!8m2!3d51.238661!4d-0.5671116
URL:https://www.google.com/maps/place/Guildford+Harbour+Hotel/@51.2386
 643,-0.5693003,17z/data=!3m1!4b1!4m5!3m4!1s0x4875d09929b79361:0xf43531
 b83dcbb1a2!8m2!3d51.238661!4d-0.5671116
CONTACT:01483901488
ORGANIZER;CN="Allen Ruddock":https://networkinginsurrey.co.uk/profile/
 JoanneMcGowan
ATTACH;FMTTYPE="image/jpeg":https://storage.ning.com/topology/rest/1.0
 /file/get/1518117371?profile=original
ATTENDEE;ROLE=REQ-PARTICIPANT;PARTSTAT=ACCEPTED;RSVP=TRUE;CN="Allen Ru
 ddock":https://networkinginsurrey.co.uk/profile/JoanneMcGowan
END:VEVENT
END:VCALENDAR
