BEGIN:VCALENDAR
PRODID:NingEventWidget-v1
VERSION:2.0
METHOD:PUBLISH
BEGIN:VTIMEZONE
TZID:Europe/London
X-LIC-LOCATION:Europe/London
BEGIN:DAYLIGHT
TZOFFSETFROM:+0000
TZOFFSETTO:+0100
TZNAME:BST
DTSTART:19700329T010000
RRULE:FREQ=YEARLY;BYMONTH=3;BYDAY=-1SU
END:DAYLIGHT
BEGIN:STANDARD
TZOFFSETFROM:+0100
TZOFFSETTO:+0000
TZNAME:GMT
DTSTART:19701025T020000
RRULE:FREQ=YEARLY;BYMONTH=10;BYDAY=-1SU
END:STANDARD
END:VTIMEZONE
BEGIN:VEVENT
UID:4626108:Event:147083
DTSTAMP:20260424T080726Z
SUMMARY:Guildford Hub Morning
DESCRIPTION:Guildford Hub - Facebook Advertising \r\n\r\nFacebook Adv
 ertising: Simple Strategies That Get Results\r\nWhy are so many busine
 sses getting poor results from Facebook Advertising?  The fact is, Fac
 ebook have made it really easy to advertise on their platform. However
  what they haven't done, is make advertising easy! \r\n\r\nIn this Hub
  session, Facebook Advertising specialist Jonathan Howkins will walk y
 ou through some simple strategies for creating campaigns that get resu
 lts.  You'll learn the importance of creating laser-targeted audiences
 , developing strong propositions, and writing high-converting headline
 s.  He'll also share with you the common mistakes so many businesses m
 ake when advertising on Facebook and why you should definitely AVOID t
 he Post Boost button!  As part of this session Jonathan will provide y
 ou with a workbook and template to enable you to create a simple low-c
 ost campaign so you can experience for yourself just how powerful the 
 Facebook Advertising platform is.\r\nCOST: Your first visit to the hub
  is FREE\r\nBOOKING: Please CLICK HERE to book your place\r\nMAP\r\
 nThere is ample paid car parking near the venue.\n\nFor more informati
 on visit https://networkinginsurrey.co.uk/events/guildford-hub-faceboo
 k-advertising-simple-strategies-that-get
DTSTART;TZID=Europe/London:20190603T093000
DTEND;TZID=Europe/London:20190603T120000
CATEGORIES:education
LOCATION:The Guildford Harbour Hotel GU1 3DA
WEBSITE:https://www.google.com/maps/place/Guildford+Harbour+Hotel/@51.
 2386643,-0.5693003,17z/data=!3m1!4b1!4m5!3m4!1s0x4875d09929b79361:0xf4
 3531b83dcbb1a2!8m2!3d51.238661!4d-0.5671116
URL:https://www.google.com/maps/place/Guildford+Harbour+Hotel/@51.2386
 643,-0.5693003,17z/data=!3m1!4b1!4m5!3m4!1s0x4875d09929b79361:0xf43531
 b83dcbb1a2!8m2!3d51.238661!4d-0.5671116
CONTACT:01483901488
ORGANIZER;CN="Allen Ruddock":https://networkinginsurrey.co.uk/profile/
 JoanneMcGowan
ATTACH;FMTTYPE="image/jpeg":https://storage.ning.com/topology/rest/1.0
 /file/get/1858513088?profile=original
ATTENDEE;ROLE=REQ-PARTICIPANT;PARTSTAT=ACCEPTED;RSVP=TRUE;CN="Allen Ru
 ddock":https://networkinginsurrey.co.uk/profile/JoanneMcGowan
END:VEVENT
END:VCALENDAR
