BEGIN:VCALENDAR
PRODID:NingEventWidget-v1
VERSION:2.0
METHOD:PUBLISH
BEGIN:VTIMEZONE
TZID:Europe/London
X-LIC-LOCATION:Europe/London
BEGIN:DAYLIGHT
TZOFFSETFROM:+0000
TZOFFSETTO:+0100
TZNAME:BST
DTSTART:19700329T010000
RRULE:FREQ=YEARLY;BYMONTH=3;BYDAY=-1SU
END:DAYLIGHT
BEGIN:STANDARD
TZOFFSETFROM:+0100
TZOFFSETTO:+0000
TZNAME:GMT
DTSTART:19701025T020000
RRULE:FREQ=YEARLY;BYMONTH=10;BYDAY=-1SU
END:STANDARD
END:VTIMEZONE
BEGIN:VEVENT
UID:4626108:Event:93922
DTSTAMP:20260423T143239Z
SUMMARY:Guildford Hub Business Morning
DESCRIPTION:Not just lipstick on a pig! Or why good design is good for
  business and more than just surface gloss.\n\nWhat, or who, immediate
 ly springs to mind when someone mentions design? Maybe it’s a global
  brand or a famous international designer. But how does design affect 
 everyday life and how important is design to your business?Business ow
 ners are consumers too and we all come into contact with design on a d
 aily basis, often being unaware of how it affects us. Being more aware
  will help you to improve how you use design in your own business.Key 
 points you will take away from this talk include:- the importance of u
 nderstanding the difference between “brand” and “branding”- wh
 y design for business is about far more than just a logo- how thinking
  like a designer can be employed by anyone to give you a deeper unders
 tanding of your business, your customers and your relationship with bo
 th.About the speaker:This workshop will be presented by Marian de Kret
 ser, a partner at FdK Design Consultants whose studio is based in the 
 Surrey Technology Centre on Surrey Research Park.FdK Design Consultant
 s have been in business for nearly 30 years and they are graphic desig
 ners, meaning they do everything from simple pop-up banners, to full c
 orporate design projects, really smart websites and even ‘user inter
 face’ projects: online systems that have to work really slickly.They
 ’ve been around a while and know what they do best … they won’t 
 ever take on a project where they can’t add proper value. And they r
 eally love to collaborate with clients, working literally side by side
  to get the best possible result. \nVenue – All our events now ta
 ke place at Harbour Hotel, 3 Alexandra Terrace, High Street, Guildford
 , GU1 3DA.\nSchedule – The talk starts at 10am but why not join us 
 for breakfast/coffee from 9am and get to meet some of our other member
 s? After the talk we have Q&A and discussion and then the morning conc
 ludes by noon. We guarantee you will grow your network, learn up to da
 te business skills and have at least one take away that you can action
  in your business straight away.\nCOST: Your first visit to the hub is
  FREE\nBOOKING: Please CLICK HERE to book your place\nMAP\nThere is 
 ample car parking near the venue.\n\n\nFor more information visit http
 s://networkinginsurrey.co.uk/events/guildford-hub-business-morning-638
DTSTART;TZID=Europe/London:20171127T090000
DTEND;TZID=Europe/London:20171127T120000
CATEGORIES:training, networking
LOCATION:Harbour Hotel
WEBSITE:https://www.google.co.uk/maps/place/Guildford+Harbour+Hotel/@5
 1.238661,-0.5693003,17z/data=!3m1!4b1!4m5!3m4!1s0x4875d09929b79361:0xf
 43531b83dcbb1a2!8m2!3d51.238661!4d-0.5671116?hl=en
URL:https://www.google.co.uk/maps/place/Guildford+Harbour+Hotel/@51.23
 8661,-0.5693003,17z/data=!3m1!4b1!4m5!3m4!1s0x4875d09929b79361:0xf4353
 1b83dcbb1a2!8m2!3d51.238661!4d-0.5671116?hl=en
CONTACT:01483454817
ORGANIZER;CN="Allen Ruddock":https://networkinginsurrey.co.uk/profile/
 JoanneMcGowan
ATTACH;FMTTYPE="image/jpeg":http://storage.ning.com/topology/rest/1.0/
 file/get/939924293?profile=original
ATTENDEE;ROLE=REQ-PARTICIPANT;PARTSTAT=ACCEPTED;RSVP=TRUE;CN="Allen Ru
 ddock":https://networkinginsurrey.co.uk/profile/JoanneMcGowan
END:VEVENT
END:VCALENDAR
