BEGIN:VCALENDAR
PRODID:NingEventWidget-v1
VERSION:2.0
METHOD:PUBLISH
BEGIN:VTIMEZONE
TZID:Europe/London
X-LIC-LOCATION:Europe/London
BEGIN:DAYLIGHT
TZOFFSETFROM:+0000
TZOFFSETTO:+0100
TZNAME:BST
DTSTART:19700329T010000
RRULE:FREQ=YEARLY;BYMONTH=3;BYDAY=-1SU
END:DAYLIGHT
BEGIN:STANDARD
TZOFFSETFROM:+0100
TZOFFSETTO:+0000
TZNAME:GMT
DTSTART:19701025T020000
RRULE:FREQ=YEARLY;BYMONTH=10;BYDAY=-1SU
END:STANDARD
END:VTIMEZONE
BEGIN:VEVENT
UID:4626108:Event:85700
DTSTAMP:20260424T131706Z
SUMMARY:Guildford Hub Business Morning
DESCRIPTION:Creating a successful lead magnet\n\nA lead magnet is a fr
 ee offer you make in exchange for an email address (and possibly addit
 ional information). Some marketers call them “an irresistible bribe
 ”, Joanne prefers to call them a powerful tool in the marketer’s a
 rsenal.\nThey’re especially golden in digital age because we can sat
 isfy the reader’s request in an instant. The goal of the lead magnet
  is to maximize the number of targeted leads you are getting for an of
 fer. In this talk, you will learn how to use existing content and tool
 s to create effective lead magnets.\nIf you are a business owner that 
 would like to encourage more sign ups to your email list and engage wi
 th your ideal clients, this talk is for you.\n\nWhat will attendees ge
 t out of the talk? Attendees will learn how to use existing content th
 eir business has, what works and what doesn't and top tools to use for
  their lead magnets. \nAbout the speaker Joanne is the owner of the G
 uildford Business Hub and also the creator of the Content Challenge. S
 he has successfully used lead magnets to attract people to her busines
 s and looks forward to sharing her tips with you.\nYour first visit to
  the hub is FREE.\nVenue – All our events take place at Kokomo, Mil
 lbrook Guildford, Surrey GU1 3YA (the former site of the Bar des Arts
 )\nThere is ample car parking in Millbrook and Debenhams Car Park oppo
 site the venue./p>\nSchedule – The talk starts at 10am but why not 
 join us for breakfast/coffee from 9am and get to meet some of our othe
 r members? After the talk we have Q&A and discussion and then the morn
 ing concludes by noon. We guarantee you will grow your network, learn 
 up to date business skills and have at least one take away that you ca
 n action in your business straight away.\nCOST: FREE for your first 
 visit (subject to availability): Hub Enterprise Nation Members £20;
  Returning Visitors £40.\nBOOKING: Please CLICK HERE to book your 
 place\nMAP\n\nFor more information visit https://networkinginsurrey.co
 .uk/events/guildford-hub-business-morning-6
DTSTART;TZID=Europe/London:20170220T090000
DTEND;TZID=Europe/London:20170220T120000
CATEGORIES:training, networking
LOCATION:Kokomo GU1 3YA
WEBSITE:https://www.google.co.uk/maps/place/Kokomo+Cocktail+Bar/@51.23
 40493,-0.5765573,17z/data=!3m1!4b1!4m5!3m4!1s0x4875d090ecaf3295:0x8874
 457e0dd42290!8m2!3d51.2340493!4d-0.5743686
URL:https://www.google.co.uk/maps/place/Kokomo+Cocktail+Bar/@51.234049
 3,-0.5765573,17z/data=!3m1!4b1!4m5!3m4!1s0x4875d090ecaf3295:0x8874457e
 0dd42290!8m2!3d51.2340493!4d-0.5743686
CONTACT:01483454817
ORGANIZER;CN="Allen Ruddock":https://networkinginsurrey.co.uk/profile/
 JoanneMcGowan
ATTACH;FMTTYPE="image/jpeg":http://storage.ning.com/topology/rest/1.0/
 file/get/939924293?profile=original
ATTENDEE;ROLE=REQ-PARTICIPANT;PARTSTAT=ACCEPTED;RSVP=TRUE;CN="Allen Ru
 ddock":https://networkinginsurrey.co.uk/profile/JoanneMcGowan
END:VEVENT
END:VCALENDAR
