BEGIN:VCALENDAR
PRODID:NingEventWidget-v1
VERSION:2.0
METHOD:PUBLISH
BEGIN:VTIMEZONE
TZID:Europe/London
X-LIC-LOCATION:Europe/London
BEGIN:DAYLIGHT
TZOFFSETFROM:+0000
TZOFFSETTO:+0100
TZNAME:BST
DTSTART:19700329T010000
RRULE:FREQ=YEARLY;BYMONTH=3;BYDAY=-1SU
END:DAYLIGHT
BEGIN:STANDARD
TZOFFSETFROM:+0100
TZOFFSETTO:+0000
TZNAME:GMT
DTSTART:19701025T020000
RRULE:FREQ=YEARLY;BYMONTH=10;BYDAY=-1SU
END:STANDARD
END:VTIMEZONE
BEGIN:VEVENT
UID:4626108:Event:91407
DTSTAMP:20260426T032417Z
SUMMARY:Guildford Hub Business Morning
DESCRIPTION:Using Facebook and Instagram for Business\r\n\r\nIt seems 
 that every week you are able to reach less and less people without pay
 ing for the privilege on Facebook and Instagram but there are plenty o
 f ways you can make the most of your organic reach on these channels i
 f you know how.\r\n\r\nJoin Jo McGowan our resident social media exper
 t as she shares the top tips\r\nÂ that get her and her clients better 
 reach and better results from their social media.\r\nWho is this for?Â
  Anyone who despairs with Facebook and Instagram or just wants some fr
 esh ideas\r\nWhat will result be?Â You will have a bank of tips and us
 able ideas to get the most out of your Facebook and Instagram presence
 .\r\nAbout the speaker:As well as running the Guildford Hub, Jo helps 
 businesses get their social media strategy delivering results. Through
  training, strategy planning and full service management, Jo ensures t
 hat your social media works in harmony with your overall marketing pla
 n, increases your visibility and gets people talking about your busine
 ss, for all the right reasons.\r\nVenueÂ â€“Â All our events now take 
 place at Harbour Hotel, 3 Alexandra Terrace, High Street, Guildford, G
 U1 3DA.\r\nScheduleÂ â€“ The talk starts at 10am but why not join us f
 or breakfast/coffee from 9am and get to meet some of our other members
 ? After the talk we have Q&A and discussion and then the morning concl
 udes by noon. We guarantee you will grow your network, learn up to dat
 e business skills and have at least one take away that you can action 
 in your business straight away.\r\nCOST:Â Your first visit to the hub 
 is FREE\r\nBOOKING: PleaseÂ CLICK HEREÂ to book your place\r\nMAP\r\nT
 here is ample paid car parking near the venue.\n\nFor more information
  visit https://networkinginsurrey.co.uk/events/guildford-hub-business-
 morning-30
DTSTART;TZID=Europe/London:20170807T090000
DTEND;TZID=Europe/London:20170807T120000
CATEGORIES:training, networking
LOCATION:Harbour Hotel
WEBSITE:https://www.google.co.uk/maps/place/Guildford+Harbour+Hotel/@5
 1.238661,-0.5693003,17z/data=!3m1!4b1!4m5!3m4!1s0x4875d09929b79361:0xf
 43531b83dcbb1a2!8m2!3d51.238661!4d-0.5671116?hl=en
URL:https://www.google.co.uk/maps/place/Guildford+Harbour+Hotel/@51.23
 8661,-0.5693003,17z/data=!3m1!4b1!4m5!3m4!1s0x4875d09929b79361:0xf4353
 1b83dcbb1a2!8m2!3d51.238661!4d-0.5671116?hl=en
CONTACT:01483454817
ORGANIZER:Joanne McGowan
ATTACH;FMTTYPE="image/jpeg":http://storage.ning.com/topology/rest/1.0/
 file/get/939924293?profile=original
ATTENDEE;ROLE=REQ-PARTICIPANT;PARTSTAT=ACCEPTED;RSVP=TRUE;CN="Rupert T
 revelyan":https://networkinginsurrey.co.uk/profile/RupertTrevelyan
ATTENDEE;ROLE=REQ-PARTICIPANT;PARTSTAT=ACCEPTED;RSVP=TRUE;CN="Keith Gr
 over, NiS Founder":https://networkinginsurrey.co.uk/profile/KeithGrove
 r
END:VEVENT
END:VCALENDAR
