BEGIN:VCALENDAR
PRODID:NingEventWidget-v1
VERSION:2.0
METHOD:PUBLISH
BEGIN:VTIMEZONE
TZID:Europe/London
X-LIC-LOCATION:Europe/London
BEGIN:DAYLIGHT
TZOFFSETFROM:+0000
TZOFFSETTO:+0100
TZNAME:BST
DTSTART:19700329T010000
RRULE:FREQ=YEARLY;BYMONTH=3;BYDAY=-1SU
END:DAYLIGHT
BEGIN:STANDARD
TZOFFSETFROM:+0100
TZOFFSETTO:+0000
TZNAME:GMT
DTSTART:19701025T020000
RRULE:FREQ=YEARLY;BYMONTH=10;BYDAY=-1SU
END:STANDARD
END:VTIMEZONE
BEGIN:VEVENT
UID:4626108:Event:89563
DTSTAMP:20260423T184045Z
SUMMARY:Guildford Hub Business Morning
DESCRIPTION:What's stopping you growing your business?\n\nMost busines
 s owners have no idea how a Marketing Funnel works…  …and why it i
 s central to EVERYTHING you need to do to grow your business  When Van
 essa talks to owners of small businesses, the most frequent answer she
  gets to her question \"How would you describe your marketing process?
 \" is ‘Sporadic and scattergun!!'. Sound familiar?  In this session,
  Hub Ambassador Vanessa Lanham-Day will show you how EVERY small busin
 ess can benefit from an organised marketing process and structured fun
 nel. As she says, “It’s the science behind great marketing and is 
 absolutely fundamental to anyone who wants to grow beyond running a li
 festyle business”.\nAbout the speaker: Marketing inspirer, mentor an
 d coach Vanessa has been a business owner for 26 years, with her inspi
 rational marketing business OnTrack Marketing. That’s in addition to
  having owned a high-street and international online knitwear business
  from 2004 to 2011.  She has the habit of getting results by sheer det
 ermination, passion and her absolute enthusiasm for helping business o
 wners achieve their potential.  Vanessa has an insightful and analytic
 al business mind and she is all about finding ways to ‘make it happe
 n’ for your business. She’s energetic, direct, open and honest –
  and likes to say it like it is. She’s most definitely the ‘tour d
 e force’ your business needs.\nVenue – All our events now take p
 lace at Harbour Hotel, 3 Alexandra Terrace, High Street, Guildford, GU
 1 3DA.\n Schedule – The talk starts at 10am but why not join us for
  breakfast/coffee from 9am and get to meet some of our other members? 
 After the talk we have Q&A and discussion and then the morning conclud
 es by noon. We guarantee you will grow your network, learn up to date 
 business skills and have at least one take away that you can action in
  your business straight away.\nCOST: Your first visit to the hub is FR
 EE\nBOOKING: Please CLICK HERE to book your place\nMAP\nThere is amp
 le car parking near the venue.\n\n\n\n\n\n\n\n\n\n\n\n\n\n\n\n\n\n\n\n
 \n\n\n\n\n\n\nFor more information visit https://networkinginsurrey.co
 .uk/events/guildford-hub-business-morning-25
DTSTART;TZID=Europe/London:20170821T090000
DTEND;TZID=Europe/London:20170821T120000
CATEGORIES:training, networking
LOCATION:Harbour Hotel
WEBSITE:https://www.google.co.uk/maps/place/Guildford+Harbour+Hotel/@5
 1.238661,-0.5693003,17z/data=!3m1!4b1!4m5!3m4!1s0x4875d09929b79361:0xf
 43531b83dcbb1a2!8m2!3d51.238661!4d-0.5671116?hl=en
URL:https://www.google.co.uk/maps/place/Guildford+Harbour+Hotel/@51.23
 8661,-0.5693003,17z/data=!3m1!4b1!4m5!3m4!1s0x4875d09929b79361:0xf4353
 1b83dcbb1a2!8m2!3d51.238661!4d-0.5671116?hl=en
CONTACT:01483454817
ORGANIZER;CN="Allen Ruddock":https://networkinginsurrey.co.uk/profile/
 JoanneMcGowan
ATTACH;FMTTYPE="image/jpeg":http://storage.ning.com/topology/rest/1.0/
 file/get/939924293?profile=original
ATTENDEE;ROLE=REQ-PARTICIPANT;PARTSTAT=ACCEPTED;RSVP=TRUE;CN="Allen Ru
 ddock":https://networkinginsurrey.co.uk/profile/JoanneMcGowan
END:VEVENT
END:VCALENDAR
