BEGIN:VCALENDAR
PRODID:NingEventWidget-v1
VERSION:2.0
METHOD:PUBLISH
BEGIN:VTIMEZONE
TZID:Europe/London
X-LIC-LOCATION:Europe/London
BEGIN:DAYLIGHT
TZOFFSETFROM:+0000
TZOFFSETTO:+0100
TZNAME:BST
DTSTART:19700329T010000
RRULE:FREQ=YEARLY;BYMONTH=3;BYDAY=-1SU
END:DAYLIGHT
BEGIN:STANDARD
TZOFFSETFROM:+0100
TZOFFSETTO:+0000
TZNAME:GMT
DTSTART:19701025T020000
RRULE:FREQ=YEARLY;BYMONTH=10;BYDAY=-1SU
END:STANDARD
END:VTIMEZONE
BEGIN:VEVENT
UID:4626108:Event:93845
DTSTAMP:20260423T143049Z
SUMMARY:Guildford Hub Business Morning
DESCRIPTION:How small business owners can preserve their sanity and th
 eir customers\n\nWith GDPR coming into force next May, EVERY business 
 owner needs to understand the basics around how they manage their data
  and, in particular, their marketing lists. The BIG question is simply
 , will it be legal to keep emailing your current contacts and prospect
 s?\nItâ€™s not a straightforward subject and youâ€™ll need to decide f
 or yourself how you want to implement the new rules. David will be ans
 wering some key questions for you, including:\n- My list is made up of
  a mix of past customers and contacts â€“ is it legal?\n- Iâ€™m B2B â€
 “ but some of my list have @gmail etc type addresses â€¦ do I have to 
 delete them?\n- Is B2B much less strict than B2C?\n- Realistically, wi
 ll anyone prosecute me? I have a proper unsubscribe in my email footer
  and will remove anyone who complains to me instantly?\n- Can I just c
 arry on as I am?\nAbout the speaker:David Bittiner is a Director at Th
 e BD Consultancy and he has an unusual background, being both lawyer a
 nd marketer. He began his career as a litigator and, after having beco
 me a Partner, he left the law and ran his own small chain of central L
 ondon bars and restaurants for 12 years. Subsequently, for six years h
 e was Head of Business Development and Marketing for a leading regiona
 l firm before becoming a Business Consultant, trainer and Coach three 
 years ago. He now regularly advises businesses both large and small on
  wide range of strategic business issues centred around business devel
 opment and marketing.\n\nVenueÂ â€“Â All our events now take place at 
 Harbour Hotel, 3 Alexandra Terrace, High Street, Guildford, GU1 3DA.\n
 ScheduleÂ â€“ The talk starts at 10am but why not join us for coffee a
 t the bar from 9am and get to meet some of our other members? After th
 e talk we have Q&A and discussion and then the morning concludes by no
 on. We guarantee you will grow your network, learn up to date business
  skills and have at least one take away that you can action in your bu
 siness straight away.\nCOST: Your first visit to the hub is FREE\nBOOK
 ING: PleaseÂ CLICK HEREÂ to book your place\nMAP\nThere is ample car p
 arking near the venue.\n\n\nFor more information visit https://network
 inginsurrey.co.uk/events/guildford-hub-business-morning-209
DTSTART;TZID=Europe/London:20171204T090000
DTEND;TZID=Europe/London:20171204T120000
CATEGORIES:training, networking
LOCATION:Harbour Hotel
WEBSITE:https://www.google.co.uk/maps/place/Guildford+Harbour+Hotel/@5
 1.238661,-0.5693003,17z/data=!3m1!4b1!4m5!3m4!1s0x4875d09929b79361:0xf
 43531b83dcbb1a2!8m2!3d51.238661!4d-0.5671116?hl=en
URL:https://www.google.co.uk/maps/place/Guildford+Harbour+Hotel/@51.23
 8661,-0.5693003,17z/data=!3m1!4b1!4m5!3m4!1s0x4875d09929b79361:0xf4353
 1b83dcbb1a2!8m2!3d51.238661!4d-0.5671116?hl=en
CONTACT:01483454817
ORGANIZER;CN="Allen Ruddock":https://networkinginsurrey.co.uk/profile/
 JoanneMcGowan
ATTACH;FMTTYPE="image/jpeg":http://storage.ning.com/topology/rest/1.0/
 file/get/939924293?profile=original
ATTENDEE;ROLE=REQ-PARTICIPANT;PARTSTAT=ACCEPTED;RSVP=TRUE;CN="Adrian F
 rost":https://networkinginsurrey.co.uk/profile/AdrianFrost
ATTENDEE;ROLE=REQ-PARTICIPANT;PARTSTAT=ACCEPTED;RSVP=TRUE;CN="Allen Ru
 ddock":https://networkinginsurrey.co.uk/profile/JoanneMcGowan
END:VEVENT
END:VCALENDAR
