BEGIN:VCALENDAR
PRODID:NingEventWidget-v1
VERSION:2.0
METHOD:PUBLISH
BEGIN:VTIMEZONE
TZID:Europe/London
X-LIC-LOCATION:Europe/London
BEGIN:DAYLIGHT
TZOFFSETFROM:+0000
TZOFFSETTO:+0100
TZNAME:BST
DTSTART:19700329T010000
RRULE:FREQ=YEARLY;BYMONTH=3;BYDAY=-1SU
END:DAYLIGHT
BEGIN:STANDARD
TZOFFSETFROM:+0100
TZOFFSETTO:+0000
TZNAME:GMT
DTSTART:19701025T020000
RRULE:FREQ=YEARLY;BYMONTH=10;BYDAY=-1SU
END:STANDARD
END:VTIMEZONE
BEGIN:VEVENT
UID:4626108:Event:87726
DTSTAMP:20260424T102405Z
SUMMARY:Guildford Hub Business Morning
DESCRIPTION:Brand and Deliver! How to check if your brand is deliveri
 ng and if not, what you can do about it\n\nConsider these questions: W
 hen was the last time you reviewed your brand? Are you still true to i
 t? Has it moved on? Is your branding off-message? Have you ever consid
 ered the unbidden communication, the things you are saying about your 
 business without even realizing? \nThe pitfalls of ignoring and not r
 eviewing your branding are huge so join FdK Design for the morning to 
 make sure your brand is delivering.\nThis talk will consider your cust
 omers’ journey through your brand, what happens beyond them making t
 he first contact and what happens beyond generating leads and winning 
 business.What will the result be?You will go away with a fresh way of 
 thinking about your business and how to decide if it’s time for a re
 fresh.Who is it for?Both service- and product-based business owners, w
 ho need to look at their brand as if it is a product and consider whet
 her it delivers on its promise.About the speakers:Marian and Simon de 
 Kretser are partners of FdK Design Consultants. Founded in 1989, FdK h
 as worked with a diverse range of clients over the years, from one-man
  start-ups to multinational corporates, helping them to use design and
  Design Thinking to solve problems, engage better with their stakehold
 ers and develop their businesses.\n\nVenue – All our events take pl
 ace at Kokomo, Millbrook Guildford, Surrey GU1 3YA (the former site o
 f the Bar des Arts)\nThere is ample car parking in Millbrook and Deben
 hams Car Park opposite the venue.\nSchedule – The talk starts at 10
 am but why not join us for breakfast/coffee from 9am and get to meet s
 ome of our other members? After the talk we have Q&A and discussion an
 d then the morning concludes by noon. We guarantee you will grow your 
 network, learn up to date business skills and have at least one take a
 way that you can action in your business straight away.\nCOST: Your f
 irst visit to the hub is FREE\nBOOKING: Please CLICK HERE to book yo
 ur place\nMAP\n\nFor more information visit https://networkinginsurrey
 .co.uk/events/guildford-hub-business-morning-15
DTSTART;TZID=Europe/London:20170424T090000
DTEND;TZID=Europe/London:20170424T120000
CATEGORIES:training, networking
LOCATION:Kokomo GU1 3YA
WEBSITE:https://www.google.co.uk/maps/place/Kokomo+Cocktail+Bar/@51.23
 40493,-0.5765573,17z/data=!3m1!4b1!4m5!3m4!1s0x4875d090ecaf3295:0x8874
 457e0dd42290!8m2!3d51.2340493!4d-0.5743686
URL:https://www.google.co.uk/maps/place/Kokomo+Cocktail+Bar/@51.234049
 3,-0.5765573,17z/data=!3m1!4b1!4m5!3m4!1s0x4875d090ecaf3295:0x8874457e
 0dd42290!8m2!3d51.2340493!4d-0.5743686
CONTACT:01483454817
ORGANIZER;CN="Allen Ruddock":https://networkinginsurrey.co.uk/profile/
 JoanneMcGowan
ATTACH;FMTTYPE="image/jpeg":http://storage.ning.com/topology/rest/1.0/
 file/get/939924293?profile=original
ATTENDEE;ROLE=REQ-PARTICIPANT;PARTSTAT=ACCEPTED;RSVP=TRUE;CN="Allen Ru
 ddock":https://networkinginsurrey.co.uk/profile/JoanneMcGowan
END:VEVENT
END:VCALENDAR
