BEGIN:VCALENDAR
PRODID:NingEventWidget-v1
VERSION:2.0
METHOD:PUBLISH
BEGIN:VTIMEZONE
TZID:Europe/London
X-LIC-LOCATION:Europe/London
BEGIN:DAYLIGHT
TZOFFSETFROM:+0000
TZOFFSETTO:+0100
TZNAME:BST
DTSTART:19700329T010000
RRULE:FREQ=YEARLY;BYMONTH=3;BYDAY=-1SU
END:DAYLIGHT
BEGIN:STANDARD
TZOFFSETFROM:+0100
TZOFFSETTO:+0000
TZNAME:GMT
DTSTART:19701025T020000
RRULE:FREQ=YEARLY;BYMONTH=10;BYDAY=-1SU
END:STANDARD
END:VTIMEZONE
BEGIN:VEVENT
UID:4626108:Event:86881
DTSTAMP:20260424T092143Z
SUMMARY:Guildford Hub Business Morning
DESCRIPTION:Business clinic with the Guildford Hub VIPs\n\nOur VIP mem
 bers are some of the best business brains in the South of England. The
 y literally have at their fingertips, gems of information that can sav
 e you hours of time going down the wrong path, or perhaps give you a t
 otally new idea of how to proceed with the next step of your business.
 \nCome along on the day, book in a slot with as many of our VIP’s as
  you have time for and get some great business advice. We will have ex
 perts on Sales, Marketing, Social Media, Accountancy and Finance, Bran
 ding, etc. so make use of this valuable morning.\n\nVenue – All our
  events take place at Kokomo, Millbrook Guildford, Surrey GU1 3YA (th
 e former site of the Bar des Arts)\nThere is ample car parking in Mill
 brook and Debenhams Car Park opposite the venue.\nSchedule – The ta
 lk starts at 10am but why not join us for breakfast/coffee from 9am an
 d get to meet some of our other members? After the talk we have Q&A an
 d discussion and then the morning concludes by noon. We guarantee you 
 will grow your network, learn up to date business skills and have at l
 east one take away that you can action in your business straight away.
 \nCOST: Your first visit to the hub is FREE\nBOOKING: Please CLICK H
 ERE to book your place\nMAP\n\nFor more information visit https://net
 workinginsurrey.co.uk/events/guildford-hub-business-morning-13
DTSTART;TZID=Europe/London:20170410T090000
DTEND;TZID=Europe/London:20170410T120000
CATEGORIES:training, networking
LOCATION:Kokomo GU1 3YA
WEBSITE:https://www.google.co.uk/maps/place/Kokomo+Cocktail+Bar/@51.23
 40493,-0.5765573,17z/data=!3m1!4b1!4m5!3m4!1s0x4875d090ecaf3295:0x8874
 457e0dd42290!8m2!3d51.2340493!4d-0.5743686
URL:https://www.google.co.uk/maps/place/Kokomo+Cocktail+Bar/@51.234049
 3,-0.5765573,17z/data=!3m1!4b1!4m5!3m4!1s0x4875d090ecaf3295:0x8874457e
 0dd42290!8m2!3d51.2340493!4d-0.5743686
CONTACT:01483454817
ORGANIZER;CN="Allen Ruddock":https://networkinginsurrey.co.uk/profile/
 JoanneMcGowan
ATTACH;FMTTYPE="image/jpeg":http://storage.ning.com/topology/rest/1.0/
 file/get/939924293?profile=original
ATTENDEE;ROLE=REQ-PARTICIPANT;PARTSTAT=ACCEPTED;RSVP=TRUE;CN="Allen Ru
 ddock":https://networkinginsurrey.co.uk/profile/JoanneMcGowan
END:VEVENT
END:VCALENDAR
