BEGIN:VCALENDAR
PRODID:NingEventWidget-v1
VERSION:2.0
METHOD:PUBLISH
BEGIN:VTIMEZONE
TZID:Europe/London
X-LIC-LOCATION:Europe/London
BEGIN:DAYLIGHT
TZOFFSETFROM:+0000
TZOFFSETTO:+0100
TZNAME:BST
DTSTART:19700329T010000
RRULE:FREQ=YEARLY;BYMONTH=3;BYDAY=-1SU
END:DAYLIGHT
BEGIN:STANDARD
TZOFFSETFROM:+0100
TZOFFSETTO:+0000
TZNAME:GMT
DTSTART:19701025T020000
RRULE:FREQ=YEARLY;BYMONTH=10;BYDAY=-1SU
END:STANDARD
END:VTIMEZONE
BEGIN:VEVENT
UID:4626108:Event:87080
DTSTAMP:20260424T093149Z
SUMMARY:Guildford Hub Business Morning
DESCRIPTION:The 5 most common IT problems for small businesses and how
  to solve them\n\nIf you’ve ever had frustrations with Windows, word
 /excel/powerpoint, storage/memory or anything web related, join Sheeva
 wn Hill of OrbitTech to help solve your IT problems. Sometimes even t
 he best of us forget some of the features of computers. This interacti
 ve talk may generate that light bulb moment of “I never knew that or
  I had totally forgotten you could do that!” by providing helpful sh
 ortcuts and advice.\nWhy you should come:  This talk will help you fi
 nd an easier way of working, cut out steps in your IT processes and so
 lving those annoying common issues that you may have.\nWhat will the r
 esult be? You may be more efficient and find a quicker way of working.
 \nWho is it for? Anyone who’s ever wanted to throw their computer ou
 t of the window!\nIf you are planning on attending this talk it is mor
 e efficient it you can please submit specific IT questions in advance.
 \nAbout the speaker: Sheevawn is an experienced, qualified and award 
 nominated Information Technology (IT) professional. She believes that 
 reliable IT systems are essential for businesses to operate efficientl
 y and deliver their objectives.\n\n\n\n\n \nVenue – All our events
  take place at Kokomo, Millbrook Guildford, Surrey GU1 3YA (the forme
 r site of the Bar des Arts)\nThere is ample car parking in Millbrook a
 nd Debenhams Car Park opposite the venue.\nSchedule – The talk star
 ts at 10am but why not join us for breakfast/coffee from 9am and get t
 o meet some of our other members? After the talk we have Q&A and discu
 ssion and then the morning concludes by noon. We guarantee you will gr
 ow your network, learn up to date business skills and have at least on
 e take away that you can action in your business straight away.\nCOST:
  Your first visit to the hub is FREE\nBOOKING: Please CLICK HERE to
  book your place\nMAP\n\nFor more information visit https://networking
 insurrey.co.uk/events/guildford-hub-business-morning-12
DTSTART;TZID=Europe/London:20170403T090000
DTEND;TZID=Europe/London:20170403T120000
CATEGORIES:training, networking
LOCATION:Kokomo GU1 3YA
WEBSITE:https://www.google.co.uk/maps/place/Kokomo+Cocktail+Bar/@51.23
 40493,-0.5765573,17z/data=!3m1!4b1!4m5!3m4!1s0x4875d090ecaf3295:0x8874
 457e0dd42290!8m2!3d51.2340493!4d-0.5743686
URL:https://www.google.co.uk/maps/place/Kokomo+Cocktail+Bar/@51.234049
 3,-0.5765573,17z/data=!3m1!4b1!4m5!3m4!1s0x4875d090ecaf3295:0x8874457e
 0dd42290!8m2!3d51.2340493!4d-0.5743686
CONTACT:01483454817
ORGANIZER;CN="Allen Ruddock":https://networkinginsurrey.co.uk/profile/
 JoanneMcGowan
ATTACH;FMTTYPE="image/jpeg":http://storage.ning.com/topology/rest/1.0/
 file/get/939924293?profile=original
ATTENDEE;ROLE=REQ-PARTICIPANT;PARTSTAT=ACCEPTED;RSVP=TRUE;CN="Allen Ru
 ddock":https://networkinginsurrey.co.uk/profile/JoanneMcGowan
END:VEVENT
END:VCALENDAR
