BEGIN:VCALENDAR
PRODID:NingEventWidget-v1
VERSION:2.0
METHOD:PUBLISH
BEGIN:VTIMEZONE
TZID:Europe/London
X-LIC-LOCATION:Europe/London
BEGIN:DAYLIGHT
TZOFFSETFROM:+0000
TZOFFSETTO:+0100
TZNAME:BST
DTSTART:19700329T010000
RRULE:FREQ=YEARLY;BYMONTH=3;BYDAY=-1SU
END:DAYLIGHT
BEGIN:STANDARD
TZOFFSETFROM:+0100
TZOFFSETTO:+0000
TZNAME:GMT
DTSTART:19701025T020000
RRULE:FREQ=YEARLY;BYMONTH=10;BYDAY=-1SU
END:STANDARD
END:VTIMEZONE
BEGIN:VEVENT
UID:4626108:Event:87078
DTSTAMP:20260424T115814Z
SUMMARY:Guildford Hub Business Morning
DESCRIPTION:Tell me what you want, what you really, really want - How 
 to communicate effectively with your clients\n\nDo you know what your 
 client wants, what they really really want?\nDo you actually know what
  you need from your client to do a good job?\nDo you know how to manag
 e client expectations?\nAre you able to say no to client demands?\nIf 
 the answer is no to any of the above then join us for this talk.\nWhy 
 should you come?\nCommunication is a huge failure point for businesses
  and life generally. In this workshop & talk you will learn how to man
 age customer expectations, get the information you require and to make
  sure your customers understand your needs to deliver the best outcome
  for them.\nWhat will the outcome be?\nYou will have the tools to put 
 a process in place to improve your communication with clients and avoi
 d potential pitfalls.\nWho is this talk for?\nWe all have to communica
 te so it is beneficial to both businesses and clients.\n\n\n\n\n\nVenu
 e – All our events take place at Kokomo, Millbrook Guildford, Surre
 y GU1 3YA (the former site of the Bar des Arts)\nThere is ample car p
 arking in Millbrook and Debenhams Car Park opposite the venue.\nSchedu
 le – The talk starts at 10am but why not join us for breakfast/coff
 ee from 9am and get to meet some of our other members? After the talk 
 we have Q&A and discussion and then the morning concludes by noon. We 
 guarantee you will grow your network, learn up to date business skills
  and have at least one take away that you can action in your business 
 straight away.\nCOST: Your first visit to the hub is FREE\nBOOKING: P
 lease CLICK HERE to book your place\nMAP\n\nFor more information vis
 it https://networkinginsurrey.co.uk/events/guildford-hub-business-morn
 ing-11
DTSTART;TZID=Europe/London:20170327T090000
DTEND;TZID=Europe/London:20170327T120000
CATEGORIES:training, networking
LOCATION:Kokomo GU1 3YA
WEBSITE:https://www.google.co.uk/maps/place/Kokomo+Cocktail+Bar/@51.23
 40493,-0.5765573,17z/data=!3m1!4b1!4m5!3m4!1s0x4875d090ecaf3295:0x8874
 457e0dd42290!8m2!3d51.2340493!4d-0.5743686
URL:https://www.google.co.uk/maps/place/Kokomo+Cocktail+Bar/@51.234049
 3,-0.5765573,17z/data=!3m1!4b1!4m5!3m4!1s0x4875d090ecaf3295:0x8874457e
 0dd42290!8m2!3d51.2340493!4d-0.5743686
CONTACT:01483454817
ORGANIZER;CN="Allen Ruddock":https://networkinginsurrey.co.uk/profile/
 JoanneMcGowan
ATTACH;FMTTYPE="image/jpeg":http://storage.ning.com/topology/rest/1.0/
 file/get/939924293?profile=original
ATTENDEE;ROLE=REQ-PARTICIPANT;PARTSTAT=ACCEPTED;RSVP=TRUE;CN="Allen Ru
 ddock":https://networkinginsurrey.co.uk/profile/JoanneMcGowan
END:VEVENT
END:VCALENDAR
