BEGIN:VCALENDAR
PRODID:NingEventWidget-v1
VERSION:2.0
METHOD:PUBLISH
BEGIN:VTIMEZONE
TZID:Europe/London
X-LIC-LOCATION:Europe/London
BEGIN:DAYLIGHT
TZOFFSETFROM:+0000
TZOFFSETTO:+0100
TZNAME:BST
DTSTART:19700329T010000
RRULE:FREQ=YEARLY;BYMONTH=3;BYDAY=-1SU
END:DAYLIGHT
BEGIN:STANDARD
TZOFFSETFROM:+0100
TZOFFSETTO:+0000
TZNAME:GMT
DTSTART:19701025T020000
RRULE:FREQ=YEARLY;BYMONTH=10;BYDAY=-1SU
END:STANDARD
END:VTIMEZONE
BEGIN:VEVENT
UID:4626108:Event:86988
DTSTAMP:20260424T184931Z
SUMMARY:Guildford Hub Business Morning
DESCRIPTION:How to confidently let your personality shine through in y
 our business\n\nDo you keep putting off getting in front of the lens f
 or your bu\nDo you know deep down it’s really important, but prefer 
 to hide behind your brand rather than be SEEN?\n This talk from Hub V
 IP and photgrapher Kerry Harrison will show you the results personal b
 randing photography can bring for your business, help you overcome you
 r fears, and understand how good photography can actually boost your b
 usiness confidence.\nWhat will this talk give you? \nIt will give you
  confidence to embrace photography (and video) in your business.\nWho 
 is this talk for? \nAny business where YOU are part of the brand.\n\n
 Venue – All our events take place at Kokomo, Millbrook Guildford, S
 urrey GU1 3YA (the former site of the Bar des Arts)\nThere is ample c
 ar parking in Millbrook and Debenhams Car Park opposite the venue.\nSc
 hedule – The talk starts at 10am but why not join us for breakfast/
 coffee from 9am and get to meet some of our other members? After the t
 alk we have Q&A and discussion and then the morning concludes by noon.
  We guarantee you will grow your network, learn up to date business sk
 ills and have at least one take away that you can action in your busin
 ess straight away.\nCOST: Your first visit to the hub is FREE\nBOOKIN
 G: Please CLICK HERE to book your place\nMAP\n\nFor more information
  visit https://networkinginsurrey.co.uk/events/guildford-hub-business-
 morning-10
DTSTART;TZID=Europe/London:20170313T090000
DTEND;TZID=Europe/London:20170313T120000
CATEGORIES:training, networking
LOCATION:Kokomo GU1 3YA
WEBSITE:https://www.google.co.uk/maps/place/Kokomo+Cocktail+Bar/@51.23
 40493,-0.5765573,17z/data=!3m1!4b1!4m5!3m4!1s0x4875d090ecaf3295:0x8874
 457e0dd42290!8m2!3d51.2340493!4d-0.5743686
URL:https://www.google.co.uk/maps/place/Kokomo+Cocktail+Bar/@51.234049
 3,-0.5765573,17z/data=!3m1!4b1!4m5!3m4!1s0x4875d090ecaf3295:0x8874457e
 0dd42290!8m2!3d51.2340493!4d-0.5743686
CONTACT:01483454817
ORGANIZER;CN="Allen Ruddock":https://networkinginsurrey.co.uk/profile/
 JoanneMcGowan
ATTACH;FMTTYPE="image/jpeg":http://storage.ning.com/topology/rest/1.0/
 file/get/939924293?profile=original
ATTENDEE;ROLE=REQ-PARTICIPANT;PARTSTAT=ACCEPTED;RSVP=TRUE;CN="Allen Ru
 ddock":https://networkinginsurrey.co.uk/profile/JoanneMcGowan
END:VEVENT
END:VCALENDAR
