BEGIN:VCALENDAR
PRODID:NingEventWidget-v1
VERSION:2.0
METHOD:PUBLISH
BEGIN:VTIMEZONE
TZID:Europe/London
X-LIC-LOCATION:Europe/London
BEGIN:DAYLIGHT
TZOFFSETFROM:+0000
TZOFFSETTO:+0100
TZNAME:BST
DTSTART:19700329T010000
RRULE:FREQ=YEARLY;BYMONTH=3;BYDAY=-1SU
END:DAYLIGHT
BEGIN:STANDARD
TZOFFSETFROM:+0100
TZOFFSETTO:+0000
TZNAME:GMT
DTSTART:19701025T020000
RRULE:FREQ=YEARLY;BYMONTH=10;BYDAY=-1SU
END:STANDARD
END:VTIMEZONE
BEGIN:VEVENT
UID:4626108:Event:100681
DTSTAMP:20260422T012312Z
SUMMARY:Guildford Connections Breakfast, Godalming
DESCRIPTION:Guildford Connections at Guildford Rugby Club\r\n\r\nOur 
 FORTNIGHTLY MEETINGS are run by Paul Bridgland & Greg Holden, with re
 laxed, fun, friendly networking (that produces results).\r\nOur meetin
 gs are for local business people who don't do (very) early mornings, c
 an't make a weekly commitment and don't believe in exclusivity for mem
 ber categories.\r\n\r\nVisitors are welcome to come along and check us
  out two or three times with absolutely no commitment or expectation t
 o join - you'll know if it's right for you but we can guarantee you th
 at you'll receive a very warm welcome wherever you attend ... come and
  give us a try!\r\nBusiness should be fun!\r\n\r\nCOST: £15 includi
 ng breakfast - payable on-line or on the door.\r\nBOOKING: Please CLI
 CK HERE to book\r\nMAP\n\nFor more information visit https://networki
 nginsurrey.co.uk/events/guildford-connections-1
DTSTART;TZID=Europe/London:20180926T080000
DTEND;TZID=Europe/London:20180926T103000
CATEGORIES:regular, business, networking, meeting
LOCATION:Guildford Rugby Club
WEBSITE:http://www.guildfordrugbyclub.co.uk/
URL:http://www.guildfordrugbyclub.co.uk/
CONTACT:07799888388
ORGANIZER;CN="Paul A Bridgland":https://networkinginsurrey.co.uk/profi
 le/PaulABridgland
ATTACH;FMTTYPE="image/jpeg":http://storage.ning.com/topology/rest/1.0/
 file/get/180287458?profile=original
ATTENDEE;ROLE=REQ-PARTICIPANT;PARTSTAT=ACCEPTED;RSVP=TRUE;CN="Paul A B
 ridgland":https://networkinginsurrey.co.uk/profile/PaulABridgland
END:VEVENT
END:VCALENDAR
