BEGIN:VCALENDAR
PRODID:NingEventWidget-v1
VERSION:2.0
METHOD:PUBLISH
BEGIN:VTIMEZONE
TZID:Europe/London
X-LIC-LOCATION:Europe/London
BEGIN:DAYLIGHT
TZOFFSETFROM:+0000
TZOFFSETTO:+0100
TZNAME:BST
DTSTART:19700329T010000
RRULE:FREQ=YEARLY;BYMONTH=3;BYDAY=-1SU
END:DAYLIGHT
BEGIN:STANDARD
TZOFFSETFROM:+0100
TZOFFSETTO:+0000
TZNAME:GMT
DTSTART:19701025T020000
RRULE:FREQ=YEARLY;BYMONTH=10;BYDAY=-1SU
END:STANDARD
END:VTIMEZONE
BEGIN:VEVENT
UID:4626108:Event:527723
DTSTAMP:20260425T175413Z
SUMMARY:Guildford Buzz Virtual Coffee Morning
DESCRIPTION:Business Buzz Virtual Coffee Time\r\n\r\nIf you have not t
 ried our platform yet, or don't like zoom calls, then please give us a
  try, it's as close as possible to being in a room!\r\nWe remain drop-
 in, informal, and friendly with our open networking format, you are fr
 ee to move around the room and chat with people of your choosing.\r\nI
 f you are looking to make new contacts, build relationships, and promo
 te your business in Guildford this event is for you.\r\nWhy Virtual Bu
 zz? \r\n\r\nOpen to all\r\nRelaxed, Informal and Friendly\r\nMove fre
 ely around the virtual room \r\n\r\nWhen\r\nMeeting every 4th Thursda
 y of the month between 10am-12pm\r\nHosted by @Jane Tyson and @Phil S
 hepherd\r\nCOST: £5\r\nBOOKING: Please click here to book your place
  via the app\n\nFor more information visit https://networkinginsurrey.
 co.uk/events/guildford-buzz-virtual-coffee-morning-2
DTSTART;TZID=Europe/London:20210826T100000
DTEND;TZID=Europe/London:20210826T120000
CATEGORIES:business, networking
LOCATION:ONLINE
WEBSITE:https://app.business-buzz.org/app?group=Guildford
URL:https://app.business-buzz.org/app?group=Guildford
CONTACT:07768 392686
ORGANIZER;CN="Jane Tyson":https://networkinginsurrey.co.uk/profile/Jan
 eTyson
ATTACH;FMTTYPE="image/jpeg":https://storage.ning.com/topology/rest/1.0
 /file/get/8473927652?profile=original
ATTENDEE;ROLE=REQ-PARTICIPANT;PARTSTAT=ACCEPTED;RSVP=TRUE;CN="Jane Tys
 on":https://networkinginsurrey.co.uk/profile/JaneTyson
END:VEVENT
END:VCALENDAR
