BEGIN:VCALENDAR
PRODID:NingEventWidget-v1
VERSION:2.0
METHOD:PUBLISH
BEGIN:VTIMEZONE
TZID:Europe/London
X-LIC-LOCATION:Europe/London
BEGIN:DAYLIGHT
TZOFFSETFROM:+0000
TZOFFSETTO:+0100
TZNAME:BST
DTSTART:19700329T010000
RRULE:FREQ=YEARLY;BYMONTH=3;BYDAY=-1SU
END:DAYLIGHT
BEGIN:STANDARD
TZOFFSETFROM:+0100
TZOFFSETTO:+0000
TZNAME:GMT
DTSTART:19701025T020000
RRULE:FREQ=YEARLY;BYMONTH=10;BYDAY=-1SU
END:STANDARD
END:VTIMEZONE
BEGIN:VEVENT
UID:4626108:Event:530205
DTSTAMP:20260420T054521Z
SUMMARY:Guildford Business over Breakfast
DESCRIPTION:Business over Breakfast at the Holiday Inn LIVE!\r\n\r\nWe
  meet Friday fortnightly at the Holiday Inn in Guildford\r\nCome and v
 isit us, promote your business and collaborate with the other local bu
 sinesses in the room\r\nBy creating a positive meeting environment and
  using the synergies within the room we bring together a team of peopl
 e to exponentially create business opportunities\r\nThe meeting doors 
 open at 6.30am for open networking and finish before 8.30am although w
 e encourage networking afterwards with refreshments provided.\r\nNetwo
 rking afterwards gives you the opportunity to expand upon the informat
 ion provided in the meeting and allows you to start that all important
  ingredient of building positive business relationships with the aim o
 f creating strategic alliances\r\nPlease come and meet with us for you
  to experience the positive way in which we bring people together by e
 ncouraging and supporting the team to collaborate collectively to help
  positively grow their confidence and business opportunities\r\nThere 
 is nothing we enjoy more than seeing people leaving our meeting with p
 otential business and/or the perfect business introduction\r\nHere are
  the club and venue details... \r\nCOST: £15 meeting fee (Includes
  Breakfast Option, Refreshments and Parking)\r\nBOOKING: Please CLICK
  HERE to visit our website and click on the 'Visit this Club' button 
 to register\r\nMAP\r\nThere is free parking at the venue but you must 
 register the vehicle at reception \r\n\r\n\n\nFor more information vi
 sit https://networkinginsurrey.co.uk/events/guildford-business-over-br
 eakfast-3
DTSTART;TZID=Europe/London:20211217T063000
DTEND;TZID=Europe/London:20211217T083000
CATEGORIES:breakfast, guildford, woking, bob_clubs
LOCATION:Holiday Inn, Egerton Road, Guildford, GU2 7XZ
WEBSITE:https://www.bobclubs.com/Club/Guildford
URL:https://www.bobclubs.com/Club/Guildford
CONTACT:07702 783233
ORGANIZER;CN="Ian Morgan":https://networkinginsurrey.co.uk/profile/Ian
 Morgan
ATTACH;FMTTYPE="image/jpeg":https://storage.ning.com/topology/rest/1.0
 /file/get/9735323469?profile=original
ATTENDEE;ROLE=REQ-PARTICIPANT;PARTSTAT=ACCEPTED;RSVP=TRUE;CN="Ian Morg
 an":https://networkinginsurrey.co.uk/profile/IanMorgan
END:VEVENT
END:VCALENDAR
