BEGIN:VCALENDAR
PRODID:NingEventWidget-v1
VERSION:2.0
METHOD:PUBLISH
BEGIN:VTIMEZONE
TZID:Europe/London
X-LIC-LOCATION:Europe/London
BEGIN:DAYLIGHT
TZOFFSETFROM:+0000
TZOFFSETTO:+0100
TZNAME:BST
DTSTART:19700329T010000
RRULE:FREQ=YEARLY;BYMONTH=3;BYDAY=-1SU
END:DAYLIGHT
BEGIN:STANDARD
TZOFFSETFROM:+0100
TZOFFSETTO:+0000
TZNAME:GMT
DTSTART:19701025T020000
RRULE:FREQ=YEARLY;BYMONTH=10;BYDAY=-1SU
END:STANDARD
END:VTIMEZONE
BEGIN:VEVENT
UID:4626108:Event:97013
DTSTAMP:20260423T040349Z
SUMMARY:Guildford Business Hub Morning
DESCRIPTION:5.5 Marketing Lightbulbs @ Harbour Hotel\n\nThe key moment
 s that will unlock the marketing plan that is massively more likely to
  deliver the results you wantIn this talk Hub Ambassador Vanessa Lanha
 m-Day shares her key insights from working with hundreds of small busi
 ness owners, with five (and don’t forget the all-important half!) es
 sential business growth strategies that have proved to be the most pow
 erful ‘lightbulb moments’ for business owners, time and time again
 .If you know you’re not tapping into the potential in YOUR business 
 – then you need to attend this session.\n\nCOST: Your first visit to
  the hub is FREE\nBOOKING: Please CLICK HERE to book your place\nMAP
 \nThere is ample car parking near the venue.\n\n\nFor more information
  visit https://networkinginsurrey.co.uk/events/guildford-business-hub-
 morning-9
DTSTART;TZID=Europe/London:20180326T090000
DTEND;TZID=Europe/London:20180326T120000
CATEGORIES:business, training, workshop
LOCATION:Guildford Harbour Hotel
WEBSITE:https://www.google.co.uk/maps/place/Guildford+Harbour+Hotel/@5
 1.238661,-0.5693003,17z/data=!3m1!4b1!4m5!3m4!1s0x4875d09929b79361:0xf
 43531b83dcbb1a2!8m2!3d51.238661!4d-0.5671116
URL:https://www.google.co.uk/maps/place/Guildford+Harbour+Hotel/@51.23
 8661,-0.5693003,17z/data=!3m1!4b1!4m5!3m4!1s0x4875d09929b79361:0xf4353
 1b83dcbb1a2!8m2!3d51.238661!4d-0.5671116
CONTACT:
ORGANIZER;CN="Allen Ruddock":https://networkinginsurrey.co.uk/profile/
 JoanneMcGowan
ATTACH;FMTTYPE="image/jpeg":http://storage.ning.com/topology/rest/1.0/
 file/get/2470849096?profile=original
ATTENDEE;ROLE=REQ-PARTICIPANT;PARTSTAT=ACCEPTED;RSVP=TRUE;CN="Allen Ru
 ddock":https://networkinginsurrey.co.uk/profile/JoanneMcGowan
END:VEVENT
END:VCALENDAR
