BEGIN:VCALENDAR
PRODID:NingEventWidget-v1
VERSION:2.0
METHOD:PUBLISH
BEGIN:VTIMEZONE
TZID:Europe/London
X-LIC-LOCATION:Europe/London
BEGIN:DAYLIGHT
TZOFFSETFROM:+0000
TZOFFSETTO:+0100
TZNAME:BST
DTSTART:19700329T010000
RRULE:FREQ=YEARLY;BYMONTH=3;BYDAY=-1SU
END:DAYLIGHT
BEGIN:STANDARD
TZOFFSETFROM:+0100
TZOFFSETTO:+0000
TZNAME:GMT
DTSTART:19701025T020000
RRULE:FREQ=YEARLY;BYMONTH=10;BYDAY=-1SU
END:STANDARD
END:VTIMEZONE
BEGIN:VEVENT
UID:4626108:Event:98333
DTSTAMP:20260425T053449Z
SUMMARY:Guildford Business Hub Morning
DESCRIPTION:Your 90-day plan - to make hay while the sun shines @ Harb
 our Hotel\n\nAt the start of the year at the Guildford Hub we split th
 e year into quarterly themes. The theme for Q3 is making hay while the
  sun shines. Or in other words, how to make sure your business makes m
 oney while you and your customer base go on holiday.\nThe bad news is 
 this won’t happen just because you want it to. You have to do some w
 ork to make it happen. That requires a plan, so this session is all ab
 out creating that plan. It’s going to be a practical, working sessio
 n and you will leave with a plan. If you book early you’ll get the p
 rep-work to make the session more valuable. Book late and you’ll be 
 behind the curve but at worst you’ll leave with a plan for the plan.
 \nBook early, get prepared and make sure you’re set up for a great s
 ummer.\nGuildford members – message me with your challenges to get o
 ne of the four hot seats.\n\nCOST: Your first visit to the hub is FREE
 \nBOOKING: Please CLICK HERE to book your place\nMAP\nThere is ample
  car parking near the venue.\n\n\nFor more information visit https://n
 etworkinginsurrey.co.uk/events/guildford-business-hub-morning-18
DTSTART;TZID=Europe/London:20180618T090000
DTEND;TZID=Europe/London:20180618T120000
CATEGORIES:business, training, workshop
LOCATION:Guildford Harbour Hotel
WEBSITE:https://www.google.co.uk/maps/place/Guildford+Harbour+Hotel/@5
 1.238661,-0.5693003,17z/data=!3m1!4b1!4m5!3m4!1s0x4875d09929b79361:0xf
 43531b83dcbb1a2!8m2!3d51.238661!4d-0.5671116
URL:https://www.google.co.uk/maps/place/Guildford+Harbour+Hotel/@51.23
 8661,-0.5693003,17z/data=!3m1!4b1!4m5!3m4!1s0x4875d09929b79361:0xf4353
 1b83dcbb1a2!8m2!3d51.238661!4d-0.5671116
CONTACT:
ORGANIZER;CN="Allen Ruddock":https://networkinginsurrey.co.uk/profile/
 JoanneMcGowan
ATTACH;FMTTYPE="image/jpeg":http://storage.ning.com/topology/rest/1.0/
 file/get/2470849096?profile=original
ATTENDEE;ROLE=REQ-PARTICIPANT;PARTSTAT=ACCEPTED;RSVP=TRUE;CN="Allen Ru
 ddock":https://networkinginsurrey.co.uk/profile/JoanneMcGowan
END:VEVENT
END:VCALENDAR
