BEGIN:VCALENDAR
PRODID:NingEventWidget-v1
VERSION:2.0
METHOD:PUBLISH
BEGIN:VTIMEZONE
TZID:Europe/London
X-LIC-LOCATION:Europe/London
BEGIN:DAYLIGHT
TZOFFSETFROM:+0000
TZOFFSETTO:+0100
TZNAME:BST
DTSTART:19700329T010000
RRULE:FREQ=YEARLY;BYMONTH=3;BYDAY=-1SU
END:DAYLIGHT
BEGIN:STANDARD
TZOFFSETFROM:+0100
TZOFFSETTO:+0000
TZNAME:GMT
DTSTART:19701025T020000
RRULE:FREQ=YEARLY;BYMONTH=10;BYDAY=-1SU
END:STANDARD
END:VTIMEZONE
BEGIN:VEVENT
UID:4626108:Event:98404
DTSTAMP:20260422T210103Z
SUMMARY:Guildford Business Hub Morning
DESCRIPTION:Lights, Camera, Action – Getting the most out of going l
 ive @ Harbour Hotel\n\nWe all know that content is king in the world o
 f marketing. But in the world of content, video is the king of kings. 
 The problem is that many business owners would rather stick red hot ne
 edles in their eyes rather than turn the video camera on themselves. A
 t least stills can be photoshopped. And then there is the sound of you
 r own voice – it just doesn’t sound like you.\nRest assured. Every
 one feels the same. But if you can be amongst the few that step outsid
 e their comfort zone, then you really can get a competitive advantage.
  This session will take you through some tips and traps in going live,
  whether it is going live – live as in Facebook live or LinkedIn Liv
 e, or whether it is recording a video for later posting. We’ll cover
  scripting, set up, some basic equipment and how you can create videos
  without even appearing in them.\nThen we’ll try out some of the thi
 ngs we’ve learned by giving it a go, live in the room. Go on – put
  your big boy/girl pants on and book on to the most uncomfortable, yet
  mysteriously satisfying session you’ll have been to at a Hub yet.\n
 \nCOST: Your first visit to the hub is FREE\nBOOKING: Please CLICK HE
 RE to book your place\nMAP\nThere is ample car parking near the venue
 .\n\n\nFor more information visit https://networkinginsurrey.co.uk/eve
 nts/guildford-business-hub-morning-16
DTSTART;TZID=Europe/London:20180604T090000
DTEND;TZID=Europe/London:20180604T120000
CATEGORIES:business, training, workshop
LOCATION:Guildford Harbour Hotel
WEBSITE:https://www.google.co.uk/maps/place/Guildford+Harbour+Hotel/@5
 1.238661,-0.5693003,17z/data=!3m1!4b1!4m5!3m4!1s0x4875d09929b79361:0xf
 43531b83dcbb1a2!8m2!3d51.238661!4d-0.5671116
URL:https://www.google.co.uk/maps/place/Guildford+Harbour+Hotel/@51.23
 8661,-0.5693003,17z/data=!3m1!4b1!4m5!3m4!1s0x4875d09929b79361:0xf4353
 1b83dcbb1a2!8m2!3d51.238661!4d-0.5671116
CONTACT:
ORGANIZER;CN="Allen Ruddock":https://networkinginsurrey.co.uk/profile/
 JoanneMcGowan
ATTACH;FMTTYPE="image/jpeg":http://storage.ning.com/topology/rest/1.0/
 file/get/2470849096?profile=original
ATTENDEE;ROLE=REQ-PARTICIPANT;PARTSTAT=ACCEPTED;RSVP=TRUE;CN="Allen Ru
 ddock":https://networkinginsurrey.co.uk/profile/JoanneMcGowan
END:VEVENT
END:VCALENDAR
