BEGIN:VCALENDAR
PRODID:NingEventWidget-v1
VERSION:2.0
METHOD:PUBLISH
BEGIN:VTIMEZONE
TZID:Europe/London
X-LIC-LOCATION:Europe/London
BEGIN:DAYLIGHT
TZOFFSETFROM:+0000
TZOFFSETTO:+0100
TZNAME:BST
DTSTART:19700329T010000
RRULE:FREQ=YEARLY;BYMONTH=3;BYDAY=-1SU
END:DAYLIGHT
BEGIN:STANDARD
TZOFFSETFROM:+0100
TZOFFSETTO:+0000
TZNAME:GMT
DTSTART:19701025T020000
RRULE:FREQ=YEARLY;BYMONTH=10;BYDAY=-1SU
END:STANDARD
END:VTIMEZONE
BEGIN:VEVENT
UID:4626108:Event:97717
DTSTAMP:20260422T222130Z
SUMMARY:Guildford Business Hub Morning
DESCRIPTION:Creating great content and how to get it out there @ Harbo
 ur Hotel\r\n\r\nWe all know that content is king. Your content is the 
 value you deliver to your prospects to convert them in to paying custo
 mers.\r\nBut great content will only be read if it is well presented. 
 Presenting great information as a series of long text paragraphs is a 
 sure way to turn off prospects and having the click away to something 
 else. In fact anything else to get away from that boring text.\r\nThis
  session is all about the anatomy of great content. How to capture the
  attention of the audience and then draw them in to consume more of wh
 at you say.\r\nBut that is just the first part. Great content, well pr
 esented, will still not get read if nobody knows it’s there. So part
  two of the session will look at how you can get your content in front
  of your target audience.\r\n\r\nCOST: Your first visit to the hub is 
 FREE\r\nBOOKING: Please CLICK HERE to book your place\r\nMAP\r\nTher
 e is ample car parking near the venue.\r\n\n\nFor more information vis
 it https://networkinginsurrey.co.uk/events/guildford-business-hub-morn
 ing-15
DTSTART;TZID=Europe/London:20180521T090000
DTEND;TZID=Europe/London:20180521T120000
CATEGORIES:business, training, workshop
LOCATION:Guildford Harbour Hotel
WEBSITE:https://www.google.co.uk/maps/place/Guildford+Harbour+Hotel/@5
 1.238661,-0.5693003,17z/data=!3m1!4b1!4m5!3m4!1s0x4875d09929b79361:0xf
 43531b83dcbb1a2!8m2!3d51.238661!4d-0.5671116
URL:https://www.google.co.uk/maps/place/Guildford+Harbour+Hotel/@51.23
 8661,-0.5693003,17z/data=!3m1!4b1!4m5!3m4!1s0x4875d09929b79361:0xf4353
 1b83dcbb1a2!8m2!3d51.238661!4d-0.5671116
CONTACT:
ORGANIZER;CN="Allen Ruddock":https://networkinginsurrey.co.uk/profile/
 JoanneMcGowan
ATTACH;FMTTYPE="image/jpeg":http://storage.ning.com/topology/rest/1.0/
 file/get/2470849096?profile=original
ATTENDEE;ROLE=REQ-PARTICIPANT;PARTSTAT=ACCEPTED;RSVP=TRUE;CN="Allen Ru
 ddock":https://networkinginsurrey.co.uk/profile/JoanneMcGowan
END:VEVENT
END:VCALENDAR
