BEGIN:VCALENDAR
PRODID:NingEventWidget-v1
VERSION:2.0
METHOD:PUBLISH
BEGIN:VTIMEZONE
TZID:Europe/London
X-LIC-LOCATION:Europe/London
BEGIN:DAYLIGHT
TZOFFSETFROM:+0000
TZOFFSETTO:+0100
TZNAME:BST
DTSTART:19700329T010000
RRULE:FREQ=YEARLY;BYMONTH=3;BYDAY=-1SU
END:DAYLIGHT
BEGIN:STANDARD
TZOFFSETFROM:+0100
TZOFFSETTO:+0000
TZNAME:GMT
DTSTART:19701025T020000
RRULE:FREQ=YEARLY;BYMONTH=10;BYDAY=-1SU
END:STANDARD
END:VTIMEZONE
BEGIN:VEVENT
UID:4626108:Event:97641
DTSTAMP:20260422T210009Z
SUMMARY:Guildford Business Hub Morning
DESCRIPTION:What does photography copyright mean for me anyway @ Harbo
 ur Hotel\r\n\r\nWe all know that using images in your business - from 
 social media to marketing materials, will help increase engagement.\r\
 nBut what about that murky grey area of image copyright?\r\nWe can sou
 rce and share images from anywhere and everywhere nowadays, but are yo
 u really absolutely sure you’re covering yourself, legally?\r\nCome 
 along and find out what this all means for YOUR business and the diffe
 rent options out there for sourcing good quality images legally. A pic
 ture really does paint a thousand words… so learn how to do it the c
 opy-RIGHT way.\r\nCOST: Your first visit to the hub is FREE\r\nBOOKING
 : Please CLICK HERE to book your place\r\nMAP\r\nThere is ample car 
 parking near the venue.\r\n\n\nFor more information visit https://netw
 orkinginsurrey.co.uk/events/guildford-business-hub-morning-13
DTSTART;TZID=Europe/London:20180430T090000
DTEND;TZID=Europe/London:20180430T120000
CATEGORIES:business, training, workshop
LOCATION:Guildford Harbour Hotel
WEBSITE:https://www.google.co.uk/maps/place/Guildford+Harbour+Hotel/@5
 1.238661,-0.5693003,17z/data=!3m1!4b1!4m5!3m4!1s0x4875d09929b79361:0xf
 43531b83dcbb1a2!8m2!3d51.238661!4d-0.5671116
URL:https://www.google.co.uk/maps/place/Guildford+Harbour+Hotel/@51.23
 8661,-0.5693003,17z/data=!3m1!4b1!4m5!3m4!1s0x4875d09929b79361:0xf4353
 1b83dcbb1a2!8m2!3d51.238661!4d-0.5671116
CONTACT:
ORGANIZER;CN="Allen Ruddock":https://networkinginsurrey.co.uk/profile/
 JoanneMcGowan
ATTACH;FMTTYPE="image/jpeg":http://storage.ning.com/topology/rest/1.0/
 file/get/2470849096?profile=original
ATTENDEE;ROLE=REQ-PARTICIPANT;PARTSTAT=ACCEPTED;RSVP=TRUE;CN="Allen Ru
 ddock":https://networkinginsurrey.co.uk/profile/JoanneMcGowan
END:VEVENT
END:VCALENDAR
