BEGIN:VCALENDAR
PRODID:NingEventWidget-v1
VERSION:2.0
METHOD:PUBLISH
BEGIN:VTIMEZONE
TZID:Europe/London
X-LIC-LOCATION:Europe/London
BEGIN:DAYLIGHT
TZOFFSETFROM:+0000
TZOFFSETTO:+0100
TZNAME:BST
DTSTART:19700329T010000
RRULE:FREQ=YEARLY;BYMONTH=3;BYDAY=-1SU
END:DAYLIGHT
BEGIN:STANDARD
TZOFFSETFROM:+0100
TZOFFSETTO:+0000
TZNAME:GMT
DTSTART:19701025T020000
RRULE:FREQ=YEARLY;BYMONTH=10;BYDAY=-1SU
END:STANDARD
END:VTIMEZONE
BEGIN:VEVENT
UID:4626108:Event:96906
DTSTAMP:20260423T070242Z
SUMMARY:Guildford Business Hub Morning
DESCRIPTION:A Plan for GDPR @ Harbour Hotel\r\n\r\nThe new General Dat
 a Protection Refulations or GDPR go live on 25th May. \r\nThere has be
 en a lot of hype and a fair degree of scare mongering about the subjec
 t. In fact, it has spawned a whole new industry pack with so-called ex
 perts.\r\nWell, here at the Guildford hub we've been attending quite a
  few seminars and webinars so that we can bring you a pragtmatic, prac
 tical approach to getting ready for GDPR.\r\nWhether your head's in a 
 spin or you think you have a reasonable grasp of the requirements, thi
 s session will take you through a 5 step plan to get the core of your 
 business and marketing GDPR-ready.\r\nThere will be a bunch of useful 
 links and the opportunity to get some off-the-shelf documents to help 
 you on the journey.\r\nCOST: Your first visit to the hub is FREE\r\nBO
 OKING: Please CLICK HERE to book your place\r\nMAP\r\nThere is ample
  car parking near the venue.\r\n\n\nFor more information visit https:/
 /networkinginsurrey.co.uk/events/guildford-business-hub-harbour-hotel
DTSTART;TZID=Europe/London:20180319T090000
DTEND;TZID=Europe/London:20180319T120000
CATEGORIES:business, training, workshop
LOCATION:Guildford Harbour Hotel
WEBSITE:https://www.google.co.uk/maps/place/Guildford+Harbour+Hotel/@5
 1.238661,-0.5693003,17z/data=!3m1!4b1!4m5!3m4!1s0x4875d09929b79361:0xf
 43531b83dcbb1a2!8m2!3d51.238661!4d-0.5671116
URL:https://www.google.co.uk/maps/place/Guildford+Harbour+Hotel/@51.23
 8661,-0.5693003,17z/data=!3m1!4b1!4m5!3m4!1s0x4875d09929b79361:0xf4353
 1b83dcbb1a2!8m2!3d51.238661!4d-0.5671116
CONTACT:
ORGANIZER;CN="Allen Ruddock":https://networkinginsurrey.co.uk/profile/
 JoanneMcGowan
ATTACH;FMTTYPE="image/jpeg":http://storage.ning.com/topology/rest/1.0/
 file/get/2470849096?profile=original
ATTENDEE;ROLE=REQ-PARTICIPANT;PARTSTAT=ACCEPTED;RSVP=TRUE;CN="Allen Ru
 ddock":https://networkinginsurrey.co.uk/profile/JoanneMcGowan
END:VEVENT
END:VCALENDAR
