BEGIN:VCALENDAR
PRODID:NingEventWidget-v1
VERSION:2.0
METHOD:PUBLISH
BEGIN:VTIMEZONE
TZID:Europe/London
X-LIC-LOCATION:Europe/London
BEGIN:DAYLIGHT
TZOFFSETFROM:+0000
TZOFFSETTO:+0100
TZNAME:BST
DTSTART:19700329T010000
RRULE:FREQ=YEARLY;BYMONTH=3;BYDAY=-1SU
END:DAYLIGHT
BEGIN:STANDARD
TZOFFSETFROM:+0100
TZOFFSETTO:+0000
TZNAME:GMT
DTSTART:19701025T020000
RRULE:FREQ=YEARLY;BYMONTH=10;BYDAY=-1SU
END:STANDARD
END:VTIMEZONE
BEGIN:VEVENT
UID:4626108:Event:96877
DTSTAMP:20260422T173415Z
SUMMARY:Guildford Business Hub Evening, Godalming
DESCRIPTION:Lead Magnets - How to magnetically attract new prospects t
 o your business @ The Branch Café\r\n\r\nHow can you entice prospecti
 ve customers to join your marketing list? The answer is to give them s
 ome of your best stuff absolutely free. Your lead magnet, or ethical b
 ribe, is offered in exchange for some basic details so that you can th
 en keep in touch with thise prospects.   In this practical workshop, g
 uildford Hub owner will take you through the whole process of identify
 ing what to give away, creating and packaging the offering, getting it
  added to your wbesite and collecting the prospect data ina GDPR compl
 iant way.   Bring your laptop or notebook and you could go away with y
 our lead magnet created and ready to use.\r\n\r\nCOST: £26.46 incl VA
 T and fees\r\nBOOKING: Please CLICK HERE to book your place\r\nMAP\r
 \nThere is ample car parking near the venue.\r\n\n\nFor more informati
 on visit https://networkinginsurrey.co.uk/events/guildford-business-hu
 b-evening
DTSTART;TZID=Europe/London:20180321T180000
DTEND;TZID=Europe/London:20180321T203000
CATEGORIES:business, training, workshop
LOCATION:The Branch Caré
WEBSITE:https://www.google.co.uk/maps/place/The+Branch+Cafe/@51.185776
 9,-0.6120458,17z/data=!3m1!4b1!4m5!3m4!1s0x4875d1d254c0d153:0xcfedb959
 6d1ab1dd!8m2!3d51.1857769!4d-0.6098571
URL:https://www.google.co.uk/maps/place/The+Branch+Cafe/@51.1857769,-0
 .6120458,17z/data=!3m1!4b1!4m5!3m4!1s0x4875d1d254c0d153:0xcfedb9596d1a
 b1dd!8m2!3d51.1857769!4d-0.6098571
CONTACT:
ORGANIZER;CN="Allen Ruddock":https://networkinginsurrey.co.uk/profile/
 JoanneMcGowan
ATTACH;FMTTYPE="image/jpeg":http://storage.ning.com/topology/rest/1.0/
 file/get/2470849096?profile=original
ATTENDEE;ROLE=REQ-PARTICIPANT;PARTSTAT=ACCEPTED;RSVP=TRUE;CN="Allen Ru
 ddock":https://networkinginsurrey.co.uk/profile/JoanneMcGowan
END:VEVENT
END:VCALENDAR
