BEGIN:VCALENDAR
PRODID:NingEventWidget-v1
VERSION:2.0
METHOD:PUBLISH
BEGIN:VTIMEZONE
TZID:Europe/London
X-LIC-LOCATION:Europe/London
BEGIN:DAYLIGHT
TZOFFSETFROM:+0000
TZOFFSETTO:+0100
TZNAME:BST
DTSTART:19700329T010000
RRULE:FREQ=YEARLY;BYMONTH=3;BYDAY=-1SU
END:DAYLIGHT
BEGIN:STANDARD
TZOFFSETFROM:+0100
TZOFFSETTO:+0000
TZNAME:GMT
DTSTART:19701025T020000
RRULE:FREQ=YEARLY;BYMONTH=10;BYDAY=-1SU
END:STANDARD
END:VTIMEZONE
BEGIN:VEVENT
UID:4626108:Event:97496
DTSTAMP:20260422T143845Z
SUMMARY:Guildford Business Biscotti
DESCRIPTION:Business Biscotti Morning at the Parkway Beefeater \r\n\r
 \nJoin us for our next club event on 3rd May\r\nCome and meet our memb
 ers and forge new business relationships at the Guildford Business Bis
 cotti Club event at The Parkway, Guildford on Thursday, 3rd May betwee
 n 9.30am until 11.30.\r\nBusiness Biscotti is what networking is all a
 bout - meeting and forming business relationships with like-minded peo
 ple. We like to think we provide an antidote to formal networking.\r\n
 There are no limits on who can attend: * All professions and any numbe
 r of the same * Men & women welcome\r\nWe feel that open networking al
 lows you to forge the relationships you need to do business with each 
 other.  You make the contacts, we provide the environment.\r\nArrive 
 at any time between 9.30am until 11.30am and leave at your leisure. B
 ecause there is no formal start, finish or set agenda you can make it 
 work for you. \r\nWho is it for?\r\nBusiness Biscotti is a Private Me
 mbership Organization -- we run business clubs. The membership fee is
  great value at £99 per year per person.\r\nIt's all about building 
 relationships and trust - both take time and effort, but the rewards a
 re limitless and lead to lasting and mutually rewarding business.\r\nC
 OST: Biscotti Members FREE to attend; non-Members £10 (plus all a
 ttendees pay £3 cash on the day for unlimited  tea or coffee, whic
 h goes to the venue)\r\nBOOKING:  Visitors please CLICK HERE to boo
 k\r\nMAP \r\nParking is free for customers\r\n------------------------
 ---------\r\nYou can attend two Business Biscotti meetings as a Visito
 r before you have to join. Membership is £99 per year which allows yo
 u to go to any Biscotti meeting across the UK and just pay for your te
 a & coffee on the day. Find more local Business Biscotti meetings h
 ere on NiS...\r\n\n\nFor more information visit https://networkinginsu
 rrey.co.uk/events/guildford-business-biscotti
DTSTART;TZID=Europe/London:20180503T093000
DTEND;TZID=Europe/London:20180503T233000
CATEGORIES:business, networking
LOCATION:The Parkway
WEBSITE:https://www.businessbiscotti.co.uk/
URL:https://www.businessbiscotti.co.uk/
CONTACT:01483-453755
ORGANIZER;CN="Edward Tudor":https://networkinginsurrey.co.uk/profile/E
 dwardTudor
ATTACH;FMTTYPE="image/jpeg":http://storage.ning.com/topology/rest/1.0/
 file/get/211099745?profile=original
ATTENDEE;ROLE=REQ-PARTICIPANT;PARTSTAT=ACCEPTED;RSVP=TRUE;CN="Edward T
 udor":https://networkinginsurrey.co.uk/profile/EdwardTudor
END:VEVENT
END:VCALENDAR
