BEGIN:VCALENDAR
PRODID:NingEventWidget-v1
VERSION:2.0
METHOD:PUBLISH
BEGIN:VTIMEZONE
TZID:Europe/London
X-LIC-LOCATION:Europe/London
BEGIN:DAYLIGHT
TZOFFSETFROM:+0000
TZOFFSETTO:+0100
TZNAME:BST
DTSTART:19700329T010000
RRULE:FREQ=YEARLY;BYMONTH=3;BYDAY=-1SU
END:DAYLIGHT
BEGIN:STANDARD
TZOFFSETFROM:+0100
TZOFFSETTO:+0000
TZNAME:GMT
DTSTART:19701025T020000
RRULE:FREQ=YEARLY;BYMONTH=10;BYDAY=-1SU
END:STANDARD
END:VTIMEZONE
BEGIN:VEVENT
UID:4626108:Event:98323
DTSTAMP:20260422T120658Z
SUMMARY:Guildford Biscotti
DESCRIPTION:Business Biscotti Morning at the Parkway Beefeater \r\n\r
 \nGuildford Biscotti Meeting\r\n \r\nJoin us for our next club event 
 on 7th June\r\nCome and meet our members and forge new business relati
 onships at the Guildford Business Biscotti Club event at The Parkway, 
 Guildford on Thursday, 3rd May between 9.30am until 11.30.\r\nWho is i
 t for?\r\nBusiness Biscotti is a Private Membership Organization -- we
  run business clubs.\r\nWe warmly welcome people from all walks of bus
 iness life.\r\nLarge companies and small.\r\nThe membership fee is gre
 at value at £99 per year per person.\r\nWhy are we different?\r\nWe a
 re a thriving UK business community.\r\nWe share success stories, enco
 urage collaboration, nurture business growth, and most importantly WE 
 DO BUSINESS.\r\nVisitors pay a guest fee of £10 (plus the local refre
 shment charge)\r\nWhat is the format?\r\nEvery club is slightly differ
 ent however each club runs fun, flexible & friendly networking -- so b
 ring plenty of business cards.\r\nCOST: Biscotti Members FREE to at
 tend; non-Members £10 (plus all attendees pay £3 cash on the day 
 for unlimited  tea or coffee, which goes to the venue)\r\nBOOKING:  
 Visitors please CLICK HERE to book\r\nMAP \r\nParking is free for cu
 stomers\r\n---------------------------------\r\nYou can attend two Bus
 iness Biscotti meetings as a Visitor before you have to join. Membersh
 ip is £99 per year which allows you to go to any Biscotti meeting acr
 oss the UK and just pay for your tea & coffee on the day. Find more lo
 cal Business Biscotti meetings here on NiS... \r\nOr visit the Bis
 cotti website here...\r\n   \n\nFor more information visit https://n
 etworkinginsurrey.co.uk/events/guildford-biscotti
DTSTART;TZID=Europe/London:20180516T180000
DTEND;TZID=Europe/London:20180516T190000
CATEGORIES:networking
LOCATION:The Parkway
WEBSITE:https://www.businessbiscotti.co.uk/
URL:https://www.businessbiscotti.co.uk/
CONTACT:01483-453755
ORGANIZER;CN="Edward Tudor":https://networkinginsurrey.co.uk/profile/E
 dwardTudor
ATTACH;FMTTYPE="image/jpeg":http://storage.ning.com/topology/rest/1.0/
 file/get/211099745?profile=original
ATTENDEE;ROLE=REQ-PARTICIPANT;PARTSTAT=ACCEPTED;RSVP=TRUE;CN="Edward T
 udor":https://networkinginsurrey.co.uk/profile/EdwardTudor
END:VEVENT
END:VCALENDAR
