BEGIN:VCALENDAR
PRODID:NingEventWidget-v1
VERSION:2.0
METHOD:PUBLISH
BEGIN:VTIMEZONE
TZID:Europe/London
X-LIC-LOCATION:Europe/London
BEGIN:DAYLIGHT
TZOFFSETFROM:+0000
TZOFFSETTO:+0100
TZNAME:BST
DTSTART:19700329T010000
RRULE:FREQ=YEARLY;BYMONTH=3;BYDAY=-1SU
END:DAYLIGHT
BEGIN:STANDARD
TZOFFSETFROM:+0100
TZOFFSETTO:+0000
TZNAME:GMT
DTSTART:19701025T020000
RRULE:FREQ=YEARLY;BYMONTH=10;BYDAY=-1SU
END:STANDARD
END:VTIMEZONE
BEGIN:VEVENT
UID:4626108:Event:101833
DTSTAMP:20260424T171136Z
SUMMARY:Business Biscotti Morning, Guildford
DESCRIPTION:Business Biscotti Morning at the Parkway Beefeater \r\n\r
 \nJoin us for our next club event on 6th December\r\nCome and meet our
  members and forge new business relationships at the Guildford Busines
 s Biscotti Club event at The Parkway, Guildford on Thursday, 6th of De
 cember between 9.30am until 11.30.\r\nWho is it for?\r\nBusiness Bisco
 tti is a Private Membership Organization -- we run business clubs.\r\n
 We warmly welcome people from all walks of business life.\r\nLarge com
 panies and small.\r\nThe membership fee is great value at £99 per yea
 r per person.\r\nWhy are we different?\r\nWe are a thriving UK busines
 s community.\r\nWe share success stories, encourage collaboration, nur
 ture business growth, and most importantly WE DO BUSINESS.\r\nVisitors
  pay a guest fee of £10 (plus the local refreshment charge)\r\nWhat i
 s the format?\r\nEvery club is slightly different however each club ru
 ns fun, flexible & friendly networking -- so bring plenty of business 
 cards.\r\nCOST: Biscotti Members FREE to attend; non-Members £10 
 (plus all attendees pay £3 cash on the day for unlimited  tea or c
 offee, which goes to the venue)\r\nBOOKING:  Visitors please CLICK H
 ERE to book\r\nMAP \r\nParking is free for customers\r\n-------------
 --------------------\r\nYou can attend two Business Biscotti meetings 
 as a Visitor before you have to join. Membership is £99 per year whic
 h allows you to go to any Biscotti meeting across the UK and just pay 
 for your tea & coffee on the day. Find more local Business Biscotti 
 meetings here on NiS... \r\nOr visit the Biscotti website here...\n\
 nFor more information visit https://networkinginsurrey.co.uk/events/gu
 ildford-biscotti-meeting-2
DTSTART;TZID=Europe/London:20181206T093000
DTEND;TZID=Europe/London:20181206T113000
CATEGORIES:networking
LOCATION:Premier Inn Guildford
WEBSITE:https://www.businessbiscotti.co.uk/
URL:https://www.businessbiscotti.co.uk/
CONTACT:01483453755
ORGANIZER;CN="Edward Tudor":https://networkinginsurrey.co.uk/profile/E
 dwardTudor
ATTACH;FMTTYPE="image/jpeg":https://storage.ning.com/topology/rest/1.0
 /file/get/211099745?profile=original
ATTENDEE;ROLE=REQ-PARTICIPANT;PARTSTAT=ACCEPTED;RSVP=TRUE;CN="Edward T
 udor":https://networkinginsurrey.co.uk/profile/EdwardTudor
END:VEVENT
END:VCALENDAR
