BEGIN:VCALENDAR
PRODID:NingEventWidget-v1
VERSION:2.0
METHOD:PUBLISH
BEGIN:VTIMEZONE
TZID:Europe/London
X-LIC-LOCATION:Europe/London
BEGIN:DAYLIGHT
TZOFFSETFROM:+0000
TZOFFSETTO:+0100
TZNAME:BST
DTSTART:19700329T010000
RRULE:FREQ=YEARLY;BYMONTH=3;BYDAY=-1SU
END:DAYLIGHT
BEGIN:STANDARD
TZOFFSETFROM:+0100
TZOFFSETTO:+0000
TZNAME:GMT
DTSTART:19701025T020000
RRULE:FREQ=YEARLY;BYMONTH=10;BYDAY=-1SU
END:STANDARD
END:VTIMEZONE
BEGIN:VEVENT
UID:4626108:Event:3976
DTSTAMP:20260425T174152Z
SUMMARY:Guest Meeting - Business for Breakfast , East Horsley
DESCRIPTION:Business for Breakfast, Guildford\n\nNiS Member Mel Willia
 ms would like to invite you to come along as a guest to this event and
  see what it's all about!\nBusiness for Breakfast is a private busines
 s club that meets with local business people fortnightly with the key 
 aim of helping its members significantly grow their businesses through
  relationship marketing and the passing of quality referrals.\nWe offe
 r: • Business sector exclusivity in membership. • Cost effective m
 arketing for your business. • Form strategic alliances in a relaxed 
 productive environment. • Unpressurised networking. • Fortnightly 
 meetings. • Business to business focus • Incremental business • 
 Support and Advice\nThe format is a 60-second introduction by all who 
 attend with a 10 minute presentation by one of the b4b members.\nBOOK 
 HERE If you're interested, please contact Melinda Williams on 07542 56
 4661 or email her here - oink@telecomplus.org.uk (By the way, Mel, her
 e at NiS we love your fab email address :0)\nCOST: £10 meeting fee wh
 ich includes a full breakfast.\nMAP\n\nFor more information visit http
 s://networkinginsurrey.co.uk/events/guest-meeting-business-for
DTSTART;TZID=Europe/London:20100921T064500
DTEND;TZID=Europe/London:20100921T083000
CATEGORIES:breakfast, guildford, business_for_breakfast, business_netw
 orking_surrey
LOCATION:Guildford Ramada Plaza, East Horsley KT24 6TB
WEBSITE:http://www.bforb.com/index.php?pag=group_details&group_id=48&p
 =guildford-ramada-plaza.html
URL:http://www.bforb.com/index.php?pag=group_details&group_id=48&p=gui
 ldford-ramada-plaza.html
CONTACT:07985 913670 (Mel); 0845 373 2576 & 01825 761268 (Nick)
ORGANIZER:Nick Starbuck
ATTACH;FMTTYPE="image/jpeg":http://storage.ning.com/topology/rest/1.0/
 file/get/2591376954?profile=original
END:VEVENT
END:VCALENDAR
