BEGIN:VCALENDAR
PRODID:NingEventWidget-v1
VERSION:2.0
METHOD:PUBLISH
BEGIN:VTIMEZONE
TZID:Europe/London
X-LIC-LOCATION:Europe/London
BEGIN:DAYLIGHT
TZOFFSETFROM:+0000
TZOFFSETTO:+0100
TZNAME:BST
DTSTART:19700329T010000
RRULE:FREQ=YEARLY;BYMONTH=3;BYDAY=-1SU
END:DAYLIGHT
BEGIN:STANDARD
TZOFFSETFROM:+0100
TZOFFSETTO:+0000
TZNAME:GMT
DTSTART:19701025T020000
RRULE:FREQ=YEARLY;BYMONTH=10;BYDAY=-1SU
END:STANDARD
END:VTIMEZONE
BEGIN:VEVENT
UID:4626108:Event:180415
DTSTAMP:20260422T145713Z
SUMMARY:GUEST EVENT: Omni Local Lunch, Windsor
DESCRIPTION:Omni Local Lunch, Windsor\nIf you own your own business or
  work in an environment where you need to find long term new clients o
 r customers then you have found an easy way to do this!\nOn top of thi
 s you can come to one of our occasional FREE Seminars after the luncht
 ime meeting!\nCome and meet the Omni Windsor Team: Billy Lyle and T
 im Woods. We get booked up in advance, so please reserve your place ea
 rly!!!\nMEETING FORMAT -\n12.15 - Open Networking & Registration Bes
 t to get there early! 12.30 - Buffet-style lunch Opening of the meeti
 ng from the Group Director 12:40 - Start 1 Minute Round  13:00 - 1-
 2-1 Meeting Set Up  Pick someone you might need to help your business
  or who can help yours! 13:10 - Pitch Platform from an Omni Member &
  Question Time (If you want to do this, you must be a member) 13.25- 
 Start 1-2-1 Meeting  Please remember this a chance to get to know som
 eone!  Don’t worry if you have not spoken to everyone. You’ll get
  a chance later. 13:45 - Members & Networking Events  Please let us 
 know if you have something coming up. We will tell everyone.13:50 - T
 ime for TT&Ts! Tips, Testimonials and Thank You Time. Please feel free
  to tell everyone about someone who has given you business or someone 
 you have worked with! 14:00 - Meeting Close - - Set Up for Seminar & 
 Refresh Coffees and Teas For more info - Please visit our website her
 e...\nCOST: £13 meeting fee including lunch  (cash on the door, p
 re-booking essential please!)\nBOOKING: Please CLICK HERE to regist
 er to attend or send us an email to reserve your place - sales.omnilo
 cal@gmail.com or call John on 07898 870 870\nMAP\n-----------------
 ---------------------\nFind more Omni Local Networking Groups here on
  NiS...\n\nFor more information visit https://networkinginsurrey.co.uk
 /events/guest-event-omni-local-lunch-windsor-4
DTSTART;TZID=Europe/London:20190726T120000
DTEND;TZID=Europe/London:20190726T143000
CATEGORIES:lunch, windsor, omni_local
LOCATION:Gurkha Royale SL4 4DE
WEBSITE:
URL:
CONTACT:
ORGANIZER:Billy Lyle and Tim Woods
ATTACH;FMTTYPE="image/jpeg":https://storage.ning.com/topology/rest/1.0
 /file/get/1716582246?profile=original
ATTENDEE;ROLE=REQ-PARTICIPANT;PARTSTAT=ACCEPTED;RSVP=TRUE;CN="John Gow
 er":https://networkinginsurrey.co.uk/profile/John
END:VEVENT
END:VCALENDAR
