BEGIN:VCALENDAR
PRODID:NingEventWidget-v1
VERSION:2.0
METHOD:PUBLISH
BEGIN:VTIMEZONE
TZID:Europe/London
X-LIC-LOCATION:Europe/London
BEGIN:DAYLIGHT
TZOFFSETFROM:+0000
TZOFFSETTO:+0100
TZNAME:BST
DTSTART:19700329T010000
RRULE:FREQ=YEARLY;BYMONTH=3;BYDAY=-1SU
END:DAYLIGHT
BEGIN:STANDARD
TZOFFSETFROM:+0100
TZOFFSETTO:+0000
TZNAME:GMT
DTSTART:19701025T020000
RRULE:FREQ=YEARLY;BYMONTH=10;BYDAY=-1SU
END:STANDARD
END:VTIMEZONE
BEGIN:VEVENT
UID:4626108:Event:144000
DTSTAMP:20260424T064813Z
SUMMARY:GUEST EVENT: Omni Local Lunch, Windsor
DESCRIPTION:Omni Local Lunch, Windsor Launch!\nIf you own your own bus
 iness or work in an environment where you need to find long term new c
 lients or customers then you have found an easy way to do this!\nOn to
 p of this you can come to one of our occasional FREE Seminars after th
 e lunchtime meeting!\nCome and meet the Omni Windsor Team: Billy Lyl
 e and Alistair Schreiber. We get booked up in advance, so please rese
 rve your place early!!!\nMEETING FORMAT -\n12.15 - Open Networking &
  Registration Best to get there early! 12.30 - Buffet-style lunch Ope
 ning of the meeting from the Group Director 12:40 - Start 1 Minute Ro
 und  13:00 - 1-2-1 Meeting Set Up  Pick someone you might need to h
 elp your business or who can help yours! 13:10 - Pitch Platform from 
 an Omni Member & Question Time (If you want to do this, you must be 
 a member) 13.25- Start 1-2-1 Meeting  Please remember this a chance t
 o get to know someone!  Don’t worry if you have not spoken to every
 one. You’ll get a chance later. 13:45 - Members & Networking Events
   Please let us know if you have something coming up. We will tell ev
 eryone.13:50 - Time for TT&Ts! Tips, Testimonials and Thank You Time.
  Please feel free to tell everyone about someone who has given you bus
 iness or someone you have worked with! 14:00 - Meeting Close - - Set 
 Up for Seminar & Refresh Coffees and Teas 14.00 - 14:30 FREE Speed 
 Seminar - Optional and occasional extra!\nFor more info - Please visit
  our website here...\nCOST: Launch Special Price just £10 meeting
  fee including lunch  (cash on the door, pre-booking essential pleas
 e!)\nBOOKING: Please CLICK HERE to register to attend or send us an
  email to reserve your place - sales.omnilocal@gmail.com or call Jo
 hn on 07898 870 870\nMAP\n--------------------------------------\nFin
 d more Omni Local Networking Groups here on NiS...\n\nFor more inform
 ation visit https://networkinginsurrey.co.uk/events/guest-event-omni-l
 ocal-lunch-windsor-2
DTSTART;TZID=Europe/London:20190531T120000
DTEND;TZID=Europe/London:20190531T143000
CATEGORIES:lunch, windsor, omni_local
LOCATION:Gurkha Royale SL4 4DE
WEBSITE:
URL:
CONTACT:
ORGANIZER:Billy Lyle and Alistair Schreiber
ATTACH;FMTTYPE="image/jpeg":https://storage.ning.com/topology/rest/1.0
 /file/get/1716582246?profile=original
ATTENDEE;ROLE=REQ-PARTICIPANT;PARTSTAT=ACCEPTED;RSVP=TRUE;CN="John Gow
 er":https://networkinginsurrey.co.uk/profile/John
END:VEVENT
END:VCALENDAR
