BEGIN:VCALENDAR
PRODID:NingEventWidget-v1
VERSION:2.0
METHOD:PUBLISH
BEGIN:VTIMEZONE
TZID:Europe/London
X-LIC-LOCATION:Europe/London
BEGIN:DAYLIGHT
TZOFFSETFROM:+0000
TZOFFSETTO:+0100
TZNAME:BST
DTSTART:19700329T010000
RRULE:FREQ=YEARLY;BYMONTH=3;BYDAY=-1SU
END:DAYLIGHT
BEGIN:STANDARD
TZOFFSETFROM:+0100
TZOFFSETTO:+0000
TZNAME:GMT
DTSTART:19701025T020000
RRULE:FREQ=YEARLY;BYMONTH=10;BYDAY=-1SU
END:STANDARD
END:VTIMEZONE
BEGIN:VEVENT
UID:4626108:Event:5103
DTSTAMP:20260423T195801Z
SUMMARY:GUEST EVENT: FREE Regus Business Booster Evening, Horsham
DESCRIPTION:Fancy spot of Networking in Sussex?\n\nNiS Member Lottie S
 kuthe-Cook works with Regus the serviced office specialists, to stage 
 FREE networking events, with expert speakers, designed to promote awar
 eness of the full range of Regus business services. You may remember t
 he Guildford event earlier this year, which was well attended with lot
 s of positive feedback - and we all love free!\nLottie's organising tw
 o more events this year, one of which is just across the Surrey /Susse
 x border in Horsham, so if you're down that way, go along and enjoy! H
 ere's a screen grab of the the flyer - click here to see it more clear
 ly.\n\nCLICK HERE TO BOOK\nMAP\nLottie's other event is in Brighton on
  25 November - details here\n\nFor more information visit https://netw
 orkinginsurrey.co.uk/events/guest-event-free-regus
DTSTART;TZID=Europe/London:20101123T163000
DTEND;TZID=Europe/London:20101123T190000
CATEGORIES:evening, seminars, horsham, free
LOCATION:Regus Horsham, 2nd floor, Afon Building RH12 1TL
WEBSITE:http://www.regus.co.uk
URL:http://www.regus.co.uk
CONTACT:0800 142 2342
ORGANIZER:Lottie Skuthe-Cook
ATTACH;FMTTYPE="image/jpeg":http://storage.ning.com/topology/rest/1.0/
 file/get/2591376404?profile=original
ATTENDEE;ROLE=REQ-PARTICIPANT;PARTSTAT=TENTATIVE;RSVP=TRUE;CN="Keith G
 rover, NiS Founder":https://networkinginsurrey.co.uk/profile/KeithGrov
 er
END:VEVENT
END:VCALENDAR
