BEGIN:VCALENDAR
PRODID:NingEventWidget-v1
VERSION:2.0
METHOD:PUBLISH
BEGIN:VTIMEZONE
TZID:Europe/London
X-LIC-LOCATION:Europe/London
BEGIN:DAYLIGHT
TZOFFSETFROM:+0000
TZOFFSETTO:+0100
TZNAME:BST
DTSTART:19700329T010000
RRULE:FREQ=YEARLY;BYMONTH=3;BYDAY=-1SU
END:DAYLIGHT
BEGIN:STANDARD
TZOFFSETFROM:+0100
TZOFFSETTO:+0000
TZNAME:GMT
DTSTART:19701025T020000
RRULE:FREQ=YEARLY;BYMONTH=10;BYDAY=-1SU
END:STANDARD
END:VTIMEZONE
BEGIN:VEVENT
UID:4626108:Event:999
DTSTAMP:20260423T094017Z
SUMMARY:GUEST EVENT: FREE Bracknell & Berkshire Business Expo, Brackne
 ll
DESCRIPTION:FREE EXHIBITION & SEMINARS at the Blue Mountain Conference
  Centre\n\n\n[Organised by NiS Member James Webster, The Webster Partn
 ership and featured on our sister site, Networking in Berkshire]\nJoin
  us for the second year of Berkshire's most successful business to bus
 iness exhibition located at Blue Mountain Golf & Conference Centre in 
 Binfield.\nSome 60 exhibitors and 600 visitors are expected to partici
 pate in this new Berkshire based exhibition. Sponsors include: ThamesÂ
  Valley Chamber of Commerce, FSB, Reading 107FM & Surrey & Berkshire M
 edia Group. Local companies, whether exhibiting or visiting, can confi
 dently expect the same degree of professionalism, friendly support and
  marketing expertise along with the opportuntiy to network with hundre
 ds of like minded business professionals.\nÂ \nâ€˜Iâ€™ve been to a lot
  of exhibitions and without doubt this is the best one locally. There 
 have been quality visitors and quality stands.Â  Itâ€™s been a very we
 ll organised exhibition and the seminars have been fantastic.â€™ - Vis
 itor to 2010 Bracknell show\nREGISTER HEREÂ  to clam your FREE place a
 nd book to attend the free seminars of your choice. With almost 600 vi
 sitors throughout the one day this is one event not to be missed!\nÂ \
 nMAPÂ  Entrance from Wood Lane\nï»¿\n\nFor more information visit http
 s://networkinginsurrey.co.uk/events/guest-event-free-bracknell
DTSTART;TZID=Europe/London:20110302T093000
DTEND;TZID=Europe/London:20110302T170000
CATEGORIES:free, daytime, exhibition
LOCATION:Blue Mountain Golf & Conference Centre RG42 4EX
WEBSITE:http://www.bracknellbusinessexpo.com/
URL:http://www.bracknellbusinessexpo.com/
CONTACT:0118-973-1976
ORGANIZER:James Webster, The Webster Partnership
ATTACH;FMTTYPE="image/jpeg":http://storage.ning.com/topology/rest/1.0/
 file/get/2591377478?profile=original
ATTENDEE;ROLE=REQ-PARTICIPANT;PARTSTAT=ACCEPTED;RSVP=TRUE;CN="Ian Gray
 ":https://networkinginsurrey.co.uk/profile/IanGray
ATTENDEE;ROLE=REQ-PARTICIPANT;PARTSTAT=ACCEPTED;RSVP=TRUE;CN="Keith Gr
 over, NiS Founder":https://networkinginsurrey.co.uk/profile/KeithGrove
 r
END:VEVENT
END:VCALENDAR
