BEGIN:VCALENDAR
PRODID:NingEventWidget-v1
VERSION:2.0
METHOD:PUBLISH
BEGIN:VTIMEZONE
TZID:Europe/London
X-LIC-LOCATION:Europe/London
BEGIN:DAYLIGHT
TZOFFSETFROM:+0000
TZOFFSETTO:+0100
TZNAME:BST
DTSTART:19700329T010000
RRULE:FREQ=YEARLY;BYMONTH=3;BYDAY=-1SU
END:DAYLIGHT
BEGIN:STANDARD
TZOFFSETFROM:+0100
TZOFFSETTO:+0000
TZNAME:GMT
DTSTART:19701025T020000
RRULE:FREQ=YEARLY;BYMONTH=10;BYDAY=-1SU
END:STANDARD
END:VTIMEZONE
BEGIN:VEVENT
UID:4626108:Event:5388
DTSTAMP:20260424T005809Z
SUMMARY:GUEST EVENT: FREE 2020 Social Media Day, Marlow
DESCRIPTION:2020 Social Media Conference\n\nThe 2020 Social Media SPEA
 K UP Conference will take the following format:\n9:00am - 10:00am Twen
 ty sponsors and invited guests will take to the stage and give 2 minut
 e presentations to the audience. All these presentations will be recor
 ded to video and then added to our 2020 Social Media YouTube Channel f
 or the world to see. The audience will vote for the presenters they wo
 uld like to see more of.\n10:00am - 10:30am Opening networking while t
 he votes are counted and verified.\n10:30am - 11:30am TOP 3 Presenters
  will be invited to take to the stage for 20 minutes each and explain 
 more and answer questions from their new fan base. 11:30am - 12:30pm O
 ur VIP Green Room Pass holders will be invited to give 1 minute presen
 tations and these again will be recorded and posted on our YouTube Cha
 nnel and the code made available for inclusion in the websites and blo
 gs of the VIPs. They will be recorded in HD like our\nSocial Media Dir
 ectors clips.\n\n12:30pm - 1:00pm Open networking\n\n1:00pm - 2:00pm N
 RG Networking lunch with the conversation around \"The Power of Commun
 ication\" and use of social media to spread your message.\n\n2:00pm - 
 3:00pm \"The Power of Communication\" panel discussion around the use 
 of social media to enable the individual to talk to those in power. Th
 e panel will include local business leaders and those involved with th
 e recent Local Enterprise Partnership application. The next business s
 tep for the BIG Society.\n\n3:30pm Close\n\nIf you'd prefer to talk ab
 out things first then please call 01753 852904 or simply book online:\
 n\nAttend This Event\n\n\nMAP\nThank you\nJon Davey, Social Media Dire
 ctor\n2020 Social Media\n01753 852904\n\nFor more information visit ht
 tps://networkinginsurrey.co.uk/events/guest-event-free-2020-social
DTSTART;TZID=Europe/London:20101118T090000
DTEND;TZID=Europe/London:20101118T150000
CATEGORIES:free, social_media, conference, marlow, nrg_lunch
LOCATION:The Crowne Plaza SL7 1GJ
WEBSITE:http://www.2020socialmedia.co.uk
URL:http://www.2020socialmedia.co.uk
CONTACT:01753 852904
ORGANIZER:Jon Davey
ATTACH;FMTTYPE="image/jpeg":http://storage.ning.com/topology/rest/1.0/
 file/get/2591391226?profile=original
ATTENDEE;ROLE=REQ-PARTICIPANT;PARTSTAT=ACCEPTED;RSVP=TRUE;CN="Keith Gr
 over, NiS Founder":https://networkinginsurrey.co.uk/profile/KeithGrove
 r
END:VEVENT
END:VCALENDAR
