BEGIN:VCALENDAR
PRODID:NingEventWidget-v1
VERSION:2.0
METHOD:PUBLISH
BEGIN:VTIMEZONE
TZID:Europe/London
X-LIC-LOCATION:Europe/London
BEGIN:DAYLIGHT
TZOFFSETFROM:+0000
TZOFFSETTO:+0100
TZNAME:BST
DTSTART:19700329T010000
RRULE:FREQ=YEARLY;BYMONTH=3;BYDAY=-1SU
END:DAYLIGHT
BEGIN:STANDARD
TZOFFSETFROM:+0100
TZOFFSETTO:+0000
TZNAME:GMT
DTSTART:19701025T020000
RRULE:FREQ=YEARLY;BYMONTH=10;BYDAY=-1SU
END:STANDARD
END:VTIMEZONE
BEGIN:VEVENT
UID:4626108:Event:93773
DTSTAMP:20260423T212755Z
SUMMARY:GUEST EVENT: Enterprise Networking Breakfast, Aldershot
DESCRIPTION:Enterprise Networking at the Aldershot & Fleet Rugby Clu
 b\r\n\r\nAcross the county line in Hampshire, Martin Fowler is expandi
 ng his empire! We occasionally feature such 'non-Surrey' events to enc
 ourage Members to spread their networking wings a little...\r\nOur con
 cept is to facilitate collaboration and synergies between businesses a
 nd being part of a team.  The meeting doors open at 6.30am with the a
 im to start breakfast at 9.00am. The half hour slot will provide you t
 he time to get a hot or cold beverage and circulate with other guests 
 and members of the group.   We aim to finish the actual meeting by 8.
 30am, but we do encourage our guests and members to diarise their time
  until 9.00am, to allow you to connect with other attendees or indeed 
 arrange a 121, to begin building those all important business relation
 ships.   During the meeting you will have the opportunity to present 
 / showcase your business to your prospective sales team for 60 seconds
 . As a member you have the added benefit to showcase your business for
  10 – 15 minutes, which is scheduled by the speaker co-ordinator of 
 the group.  Come along to one of the meetings hosted by Enterprise Net
 working and experience first-hand, how being part of such a group can
  enhance your business through a supportive and collaborative group of
  likeminded business people and a well-structured, yet fun meeting.\r\
 nCOST: £15 meeting fee (including breakfast)\r\nBOOKING: Please CLICK
  HERE to book\r\nMAP\n\nFor more information visit https://networking
 insurrey.co.uk/events/guest-event-enterprise-networking-aldershot
DTSTART;TZID=Europe/London:20171206T063000
DTEND;TZID=Europe/London:20171206T090000
CATEGORIES:breakfast, hampshire, aldershot, bob_clubs
LOCATION:Aldershot &amp; Fleet RUFC
WEBSITE:http://www.pitchero.com/clubs/aldershotfleet/
URL:http://www.pitchero.com/clubs/aldershotfleet/
CONTACT:07572 453883
ORGANIZER;CN="Martin Fowler":https://networkinginsurrey.co.uk/profile/
 MartinFowler
ATTACH;FMTTYPE="image/jpeg":http://storage.ning.com/topology/rest/1.0/
 file/get/2591465599?profile=original
ATTENDEE;ROLE=REQ-PARTICIPANT;PARTSTAT=ACCEPTED;RSVP=TRUE;CN="Martin F
 owler":https://networkinginsurrey.co.uk/profile/MartinFowler
END:VEVENT
END:VCALENDAR
