BEGIN:VCALENDAR
PRODID:NingEventWidget-v1
VERSION:2.0
METHOD:PUBLISH
BEGIN:VTIMEZONE
TZID:Europe/London
X-LIC-LOCATION:Europe/London
BEGIN:DAYLIGHT
TZOFFSETFROM:+0000
TZOFFSETTO:+0100
TZNAME:BST
DTSTART:19700329T010000
RRULE:FREQ=YEARLY;BYMONTH=3;BYDAY=-1SU
END:DAYLIGHT
BEGIN:STANDARD
TZOFFSETFROM:+0100
TZOFFSETTO:+0000
TZNAME:GMT
DTSTART:19701025T020000
RRULE:FREQ=YEARLY;BYMONTH=10;BYDAY=-1SU
END:STANDARD
END:VTIMEZONE
BEGIN:VEVENT
UID:4626108:Event:95930
DTSTAMP:20260423T053612Z
SUMMARY:GUEST EVENT: Enterprise Connexions - London Twickenham
DESCRIPTION:Enterprise Connexions at the London Marriott Hotel Twicke
 nham (New venue and group)\r\n\r\nAcross the county line in West Londo
 n, Martin Fowler is expanding his empire! We occasionally feature such
  'non-Surrey' events to encourage Members to spread their networking w
 ings a little...\r\nOur concept is to facilitate collaboration and syn
 ergies between businesses and being part of a team.   The meeting doo
 rs open at 6.30am with the aim to start breakfast at 7.00am. The half 
 hour slot will provide you the time to get a hot or cold beverage and 
 circulate with other guests and members of the group.   We aim to fin
 ish the actual meeting by 8.30am, but we do encourage our guests and m
 embers to diarise their time until 9.00am, to allow you to connect wit
 h other attendees or indeed arrange a 121, to begin building those all
  important business relationships.   During the meeting you will have
  the opportunity to present / showcase your business to your prospecti
 ve sales team for 60 seconds. As a member you have the added benefit t
 o showcase your business for 10 – 15 minutes, which is scheduled by 
 the speaker co-ordinator of the group.  Come along to one of the meeti
 ngs hosted by Enterprise Networking and experience first-hand, how be
 ing part of such a group can enhance your business through a supportiv
 e and collaborative group of likeminded business people and a well-str
 uctured, yet fun meeting.\r\nCOST: £20.00 meeting fee (including bre
 akfast)\r\nBOOKING: Please CLICK HERE to book\r\nMAP\r\nComplimentar
 y Parking\r\n \n\nFor more information visit https://networkinginsurr
 ey.co.uk/events/guest-event-enterprise-connexions-london-twickenham
DTSTART;TZID=Europe/London:20180202T063000
DTEND;TZID=Europe/London:20180202T090000
CATEGORIES:breakfast, twickenham, london, enterprise, connexions
LOCATION:London Marriott Hotel Twickenham
WEBSITE:https://www.google.co.uk/maps/place/198+Whitton+Rd,+Twickenham
 +TW2+7BA/@51.4547162,-0.3420349,17z/data=!4m13!1m7!3m6!1s0x48760cf2655
 b6ad7:0x2529f916e8de32d8!2s198+Whitton+Rd,+Twickenham+TW2+7BA!3b1!8m2!
 3d51.4547162!4d-0.3398409!3m4!1s0x48760cf2655b6ad7:0x2529f916e8de32d8!
 8m2!3d51.4547162!4d-0.3398409
URL:https://www.google.co.uk/maps/place/198+Whitton+Rd,+Twickenham+TW2
 +7BA/@51.4547162,-0.3420349,17z/data=!4m13!1m7!3m6!1s0x48760cf2655b6ad
 7:0x2529f916e8de32d8!2s198+Whitton+Rd,+Twickenham+TW2+7BA!3b1!8m2!3d51
 .4547162!4d-0.3398409!3m4!1s0x48760cf2655b6ad7:0x2529f916e8de32d8!8m2!
 3d51.4547162!4d-0.3398409
CONTACT:07572453883
ORGANIZER;CN="Martin Fowler":https://networkinginsurrey.co.uk/profile/
 MartinFowler
ATTACH;FMTTYPE="image/jpeg":http://storage.ning.com/topology/rest/1.0/
 file/get/2591468180?profile=original
ATTENDEE;ROLE=REQ-PARTICIPANT;PARTSTAT=ACCEPTED;RSVP=TRUE;CN="Martin F
 owler":https://networkinginsurrey.co.uk/profile/MartinFowler
ATTENDEE;ROLE=REQ-PARTICIPANT;PARTSTAT=ACCEPTED;RSVP=TRUE;CN="Soraya A
 nderson":https://networkinginsurrey.co.uk/profile/SorayaAnderson
END:VEVENT
END:VCALENDAR
