BEGIN:VCALENDAR
PRODID:NingEventWidget-v1
VERSION:2.0
METHOD:PUBLISH
BEGIN:VTIMEZONE
TZID:Europe/London
X-LIC-LOCATION:Europe/London
BEGIN:DAYLIGHT
TZOFFSETFROM:+0000
TZOFFSETTO:+0100
TZNAME:BST
DTSTART:19700329T010000
RRULE:FREQ=YEARLY;BYMONTH=3;BYDAY=-1SU
END:DAYLIGHT
BEGIN:STANDARD
TZOFFSETFROM:+0100
TZOFFSETTO:+0000
TZNAME:GMT
DTSTART:19701025T020000
RRULE:FREQ=YEARLY;BYMONTH=10;BYDAY=-1SU
END:STANDARD
END:VTIMEZONE
BEGIN:VEVENT
UID:4626108:Event:101540
DTSTAMP:20260424T132130Z
SUMMARY:GUEST EVENT: Enterprise Connexions Breakfast, London Kingston
DESCRIPTION:Enterprise Connexions at the DoubleTree by Hilton Kingston
  \r\nAcross the county line in West London, Martin Fowler is expandin
 g his empire! We occasionally feature such 'non-Surrey' events to enco
 urage Members to spread their networking wings a little - to watch ou
 r 1-minute intro video, please click here...\r\nAt our meetings you w
 ill engage with a diverse range of Go to experts, gaining direct intro
 ductions to skills & insights.\r\nYou'll meet potential new customers 
 & great new suppliers, who can help develop your business, & get you c
 loser to where you want to be …. plus you'll have a great breakfast 
 while you're at it!\r\nWe look forward to welcoming you at one of our 
 business breakfast meetings to and sharing the ECX experience.\r\nAtte
 ndance fee for this business meeting is £20.00 (cash only), which i
 ncludes tea, coffee & breakfast. CLICK HERE to BOOK. \r\nOur biweekl
 y business meeting agenda is: \r\n\r\n7.00 – 7.30 AM Rock up & ming
 le with other attendees & fellow members.\r\n7.30 – 7.45 AM Grab you
 rself a breakfast. \r\n7.45 – 9.00 AM Formal meeting, where you’
 ll have the opportunity to promote your business various ways.\r\n9.0
 0 – 9.30 AM Great opportunity to engage further with other attendees
  over more tea & coffee. \r\n\r\nWhat do I need:\r\n\r\nYourself –
  dress smartly / business like (Please Note - We have a 'No Jeans' Po
 licy and for Health and Safety reasons, no opened toed shoes or bare f
 eet.)\r\nBusiness card and Marketing material. (Please note Roll up b
 anners or alike, are not permitted for non-members / visitors.)\r\n\r\
 nAt the venue: \r\n\r\nThere is chargeable parking at Seven Kings Car
 park opposite the venue. (£1.00 P.H. from 7am)  \r\n\r\nCOST: £21.50
  including tea, coffee & breakfast\r\nBOOKING: Please CLICK HERE to
  book\r\nMAP\r\nComplimentary Parking\r\n \n\nFor more information vi
 sit https://networkinginsurrey.co.uk/events/guest-event-enterprise-con
 nexions-london-kingston-18
DTSTART;TZID=Europe/London:20181206T070000
DTEND;TZID=Europe/London:20181206T093000
CATEGORIES:breakfast, kingston, surrey, enterprise, connexions
LOCATION:DoubleTree by Hilton Kingston
WEBSITE:http://doubletree3.hilton.com/en/hotels/united-kingdom/doublet
 ree-by-hilton-hotel-london-kingston-upon-thames-LONKTDI/index.html
URL:http://doubletree3.hilton.com/en/hotels/united-kingdom/doubletree-
 by-hilton-hotel-london-kingston-upon-thames-LONKTDI/index.html
CONTACT:07572453883
ORGANIZER;CN="Martin Fowler":https://networkinginsurrey.co.uk/profile/
 MartinFowler
ATTACH;FMTTYPE="image/jpeg":https://storage.ning.com/topology/rest/1.0
 /file/get/199838061?profile=original
ATTENDEE;ROLE=REQ-PARTICIPANT;PARTSTAT=ACCEPTED;RSVP=TRUE;CN="Martin F
 owler":https://networkinginsurrey.co.uk/profile/MartinFowler
END:VEVENT
END:VCALENDAR
