BEGIN:VCALENDAR
PRODID:NingEventWidget-v1
VERSION:2.0
METHOD:PUBLISH
BEGIN:VTIMEZONE
TZID:Europe/London
X-LIC-LOCATION:Europe/London
BEGIN:DAYLIGHT
TZOFFSETFROM:+0000
TZOFFSETTO:+0100
TZNAME:BST
DTSTART:19700329T010000
RRULE:FREQ=YEARLY;BYMONTH=3;BYDAY=-1SU
END:DAYLIGHT
BEGIN:STANDARD
TZOFFSETFROM:+0100
TZOFFSETTO:+0000
TZNAME:GMT
DTSTART:19701025T020000
RRULE:FREQ=YEARLY;BYMONTH=10;BYDAY=-1SU
END:STANDARD
END:VTIMEZONE
BEGIN:VEVENT
UID:4626108:Event:96004
DTSTAMP:20260423T053441Z
SUMMARY:GUEST EVENT: Enterprise Connexions - London Heathrow
DESCRIPTION:Enterprise Connexions at the Mercure London Heathrow\r\n\r
 \nAcross the county line in West London, Martin Fowler is expanding hi
 s empire! We occasionally feature such 'non-Surrey' events to encourag
 e Members to spread their networking wings a little...\r\nOur concept 
 is to facilitate collaboration and synergies between businesses and be
 ing part of a team.   The meeting doors open at 6.30am with the aim t
 o start breakfast at 7.00am. The half hour slot will provide you the t
 ime to get a hot or cold beverage and circulate with other guests and 
 members of the group.   We aim to finish the actual meeting by 8.30am
 , but we do encourage our guests and members to diarise their time unt
 il 9.00am, to allow you to connect with other attendees or indeed arra
 nge a 121, to begin building those all important business relationship
 s.   During the meeting you will have the opportunity to present / sh
 owcase your business to your prospective sales team for 60 seconds. As
  a member you have the added benefit to showcase your business for 10 
 – 15 minutes, which is scheduled by the speaker co-ordinator of the 
 group.  Come along to one of the meetings hosted by Enterprise Network
 ing and experience first-hand, how being part of such a group can enh
 ance your business through a supportive and collaborative group of lik
 eminded business people and a well-structured, yet fun meeting.\r\nCOS
 T: £20 meeting fee (including breakfast)\r\nBOOKING: Please CLICK H
 ERE to book\r\nMAP\r\nComplimentary Parking\r\n \n\nFor more informa
 tion visit https://networkinginsurrey.co.uk/events/guest-event-enterpr
 ise-connexions-london-heathrow
DTSTART;TZID=Europe/London:20180126T063000
DTEND;TZID=Europe/London:20180126T090000
CATEGORIES:breakfast, hayes, middlesex, heathrow, enterprise, connexio
 ns
LOCATION:Mercure London Heathrow
WEBSITE:http://www.mercure.com/gb/hotel-9651-mercure-london-heathrow/i
 ndex.shtml
URL:http://www.mercure.com/gb/hotel-9651-mercure-london-heathrow/index
 .shtml
CONTACT:07572453883
ORGANIZER;CN="Martin Fowler":https://networkinginsurrey.co.uk/profile/
 MartinFowler
ATTACH;FMTTYPE="image/jpeg":http://storage.ning.com/topology/rest/1.0/
 file/get/2591468180?profile=original
ATTENDEE;ROLE=REQ-PARTICIPANT;PARTSTAT=ACCEPTED;RSVP=TRUE;CN="Martin F
 owler":https://networkinginsurrey.co.uk/profile/MartinFowler
END:VEVENT
END:VCALENDAR
