BEGIN:VCALENDAR
PRODID:NingEventWidget-v1
VERSION:2.0
METHOD:PUBLISH
BEGIN:VTIMEZONE
TZID:Europe/London
X-LIC-LOCATION:Europe/London
BEGIN:DAYLIGHT
TZOFFSETFROM:+0000
TZOFFSETTO:+0100
TZNAME:BST
DTSTART:19700329T010000
RRULE:FREQ=YEARLY;BYMONTH=3;BYDAY=-1SU
END:DAYLIGHT
BEGIN:STANDARD
TZOFFSETFROM:+0100
TZOFFSETTO:+0000
TZNAME:GMT
DTSTART:19701025T020000
RRULE:FREQ=YEARLY;BYMONTH=10;BYDAY=-1SU
END:STANDARD
END:VTIMEZONE
BEGIN:VEVENT
UID:4626108:Event:101624
DTSTAMP:20260425T011849Z
SUMMARY:GUEST EVENT: Enterprise Connexions Breakfast, London Heathrow
DESCRIPTION:Enterprise Connexions at the Mercure London Heathrow\r\n\r
 \nAcross the county line in West London, Martin Fowler is expanding hi
 s empire! We occasionally feature such 'non-Surrey' events to encourag
 e Members to spread their networking wings a little - to watch our 1
 -minute intro video, please click here...\r\nAt our meetings you will 
 engage with a diverse range of Go to experts, gaining direct introduct
 ions to skills & insights.\r\nYou'll meet potential new customers & gr
 eat new suppliers, who can help develop your business, & get you close
 r to where you want to be …. plus you'll have a great breakfast whil
 e you're at it!\r\nWe look forward to welcoming you at one of our busi
 ness breakfast meetings to and sharing the ECX experience.\r\nAttendan
 ce fee for this business meeting is £20.00 (cash only), which inclu
 des tea, coffee & breakfast. CLICK HERE to BOOK  \r\nOur biweekly b
 usiness meeting agenda is: \r\n\r\n6.30 – 7.00 AM     Rock up &
  mingle with other attendees & fellow members.\r\n7.00 – 7.15 AM  
    Grab yourself a breakfast.\r\n7.15 – 8.30 AM     Formal mee
 ting, where you’ll have the opportunity to promote your business va
 rious ways.\r\n8.30 – 9.00 AM     Great opportunity to engage fu
 rther with other attendees over more tea & coffee.\r\n\r\nWhat do I n
 eed:\r\n\r\nYourself – dress smartly / business like (Please Note -
  We have a 'No Jeans' Policy and for Health and Safety reasons, no ope
 ned toed shoes or bare feet.)\r\nBusiness card and Marketing material.
  (Please note Roll up banners or alike, are not permitted for non-mem
 bers / visitors.)\r\n\r\nAt the venue:\r\nThere is complimentary onsit
 e parking. Please register your vehicle at reception to prevent a park
 ing fee.\r\nCOST: £21.50 including tea, coffee & breakfast\r\nBOOKI
 NG: Please CLICK HERE to book\r\nMAP \n\nFor more information visit
  https://networkinginsurrey.co.uk/events/guest-event-enterprise-connex
 ions-london-heathrow-23
DTSTART;TZID=Europe/London:20181214T063000
DTEND;TZID=Europe/London:20181214T090000
CATEGORIES:breakfast, hayes, middlesex, heathrow, enterprise, connexio
 ns
LOCATION:Mercure London Heathrow
WEBSITE:http://www.mercure.com/gb/hotel-9651-mercure-london-heathrow/i
 ndex.shtml
URL:http://www.mercure.com/gb/hotel-9651-mercure-london-heathrow/index
 .shtml
CONTACT:07572453883
ORGANIZER;CN="Martin Fowler":https://networkinginsurrey.co.uk/profile/
 MartinFowler
ATTACH;FMTTYPE="image/jpeg":https://storage.ning.com/topology/rest/1.0
 /file/get/180591383?profile=original
ATTENDEE;ROLE=REQ-PARTICIPANT;PARTSTAT=ACCEPTED;RSVP=TRUE;CN="Martin F
 owler":https://networkinginsurrey.co.uk/profile/MartinFowler
END:VEVENT
END:VCALENDAR
