BEGIN:VCALENDAR
PRODID:NingEventWidget-v1
VERSION:2.0
METHOD:PUBLISH
BEGIN:VTIMEZONE
TZID:Europe/London
X-LIC-LOCATION:Europe/London
BEGIN:DAYLIGHT
TZOFFSETFROM:+0000
TZOFFSETTO:+0100
TZNAME:BST
DTSTART:19700329T010000
RRULE:FREQ=YEARLY;BYMONTH=3;BYDAY=-1SU
END:DAYLIGHT
BEGIN:STANDARD
TZOFFSETFROM:+0100
TZOFFSETTO:+0000
TZNAME:GMT
DTSTART:19701025T020000
RRULE:FREQ=YEARLY;BYMONTH=10;BYDAY=-1SU
END:STANDARD
END:VTIMEZONE
BEGIN:VEVENT
UID:4626108:Event:96069
DTSTAMP:20260423T040722Z
SUMMARY:GUEST EVENT: Enterprise Connexions - London Heathrow
DESCRIPTION:Enterprise Connexions at the Mercure London Heathrow\n\nAc
 ross the county line in West London, Martin Fowler is expanding his em
 pire! We occasionally feature such 'non-Surrey' events to encourage Me
 mbers to spread their networking wings a little...\nOur business meeti
 ngs are structured for business owners who understand the benefits of 
 successful collaboration and being part of a team. During our meeting,
  you will have the opportunity to introduce your business to your pros
 pective sales team through an elevator pitch for 60 seconds.Our existi
 ng members intuitively understand the value of a virtual expert suppor
 t network. They know it helps their own clients, and to furthers their
  own business objectives. If these concepts chime with your own busine
 ss philosophy, come along to one of our business meetings hosted by En
 terprise Connexions and experience first-hand, how being part of such 
 a business group can enhance your business. Our biweekly business meet
 ing agenda is: 6:30 – 7.00 AM Registration 7.00 – 7.15 AM Breakfas
 t 7.15 – 8.30 AM Meeting 8.30 – 9.00 AM Open Connexions We are loo
 king for various business categories to join us for breakfast, to incr
 ease our virtual expert support network.\nCOST: £20.00 meeting fee (i
 ncluding breakfast)\nBOOKING: Please CLICK HERE to book\nMAP\nCompli
 mentary Parking\n \n\nFor more information visit https://networkingin
 surrey.co.uk/events/guest-event-enterprise-connexions-london-heathrow-
 2
DTSTART;TZID=Europe/London:20180223T063000
DTEND;TZID=Europe/London:20180223T090000
CATEGORIES:breakfast, hayes, middlesex, heathrow, enterprise, connexio
 ns
LOCATION:Mercure London Heathrow
WEBSITE:http://www.mercure.com/gb/hotel-9651-mercure-london-heathrow/i
 ndex.shtml
URL:http://www.mercure.com/gb/hotel-9651-mercure-london-heathrow/index
 .shtml
CONTACT:07572453883
ORGANIZER;CN="Martin Fowler":https://networkinginsurrey.co.uk/profile/
 MartinFowler
ATTACH;FMTTYPE="image/jpeg":http://storage.ning.com/topology/rest/1.0/
 file/get/2591469983?profile=original
ATTENDEE;ROLE=REQ-PARTICIPANT;PARTSTAT=ACCEPTED;RSVP=TRUE;CN="Martin F
 owler":https://networkinginsurrey.co.uk/profile/MartinFowler
END:VEVENT
END:VCALENDAR
