BEGIN:VCALENDAR
PRODID:NingEventWidget-v1
VERSION:2.0
METHOD:PUBLISH
BEGIN:VTIMEZONE
TZID:Europe/London
X-LIC-LOCATION:Europe/London
BEGIN:DAYLIGHT
TZOFFSETFROM:+0000
TZOFFSETTO:+0100
TZNAME:BST
DTSTART:19700329T010000
RRULE:FREQ=YEARLY;BYMONTH=3;BYDAY=-1SU
END:DAYLIGHT
BEGIN:STANDARD
TZOFFSETFROM:+0100
TZOFFSETTO:+0000
TZNAME:GMT
DTSTART:19701025T020000
RRULE:FREQ=YEARLY;BYMONTH=10;BYDAY=-1SU
END:STANDARD
END:VTIMEZONE
BEGIN:VEVENT
UID:4626108:Event:96849
DTSTAMP:20260422T223421Z
SUMMARY:GUEST EVENT: ECX100 Morning, Farnborough
DESCRIPTION:ECX100 @ the Holiday Inn Farnborough\r\n\r\nUpon arrival y
 ou can grab a cuppa, mingle and connect with businesses in a relaxed a
 nd informal way. You will be able to exchange business cards with othe
 r businesses and you will make many new business connexions whilst hav
 ing some fun.\r\nOnce we have finished breakfast, you will have a spot
 light to inform the room about the products and services of your busin
 ess, then a short presentation from the host.\r\nOnce refreshed with m
 ore tea and coffee, there will be an hours opportunity for direct busi
 ness connexions, followed by an verbal business connnexions, as we kno
 w you wouldnt be able to circulate the complete room in such a short p
 eriod of time.\r\nAt the end of the formal meeting there is an opportu
 nity to continue networking.\r\nYou will have a spotlight to inform th
 e room about the products and services of your business, then a short 
 presentation from the host.\r\nThere will be an hours opportunity for 
 direct business Networking, followed by direct business connnexions.\r
 \nCOST: £15 to £20 (book soon for the cheaper early bird tickets) wh
 ich include a Breakfast and bottomless Tea and Coffee, along with comp
 limentary parking.\r\nBOOKING: Please CLICK HERE to book\r\n\r\nMAP\n
 \nFor more information visit https://networkinginsurrey.co.uk/events/g
 uest-event-enterprise-connexions-farnborough-6
DTSTART;TZID=Europe/London:20180427T060000
DTEND;TZID=Europe/London:20180427T110000
CATEGORIES:breakfast, hampshire, fleet, farnborough, enterprise, conne
 xions
LOCATION:The Holiday Inn Farnborough
WEBSITE:http://www.hifarnboroughhotel.co.uk/
URL:http://www.hifarnboroughhotel.co.uk/
CONTACT:01252 546 654
ORGANIZER;CN="Martin Fowler":https://networkinginsurrey.co.uk/profile/
 MartinFowler
ATTACH;FMTTYPE="image/jpeg":http://storage.ning.com/topology/rest/1.0/
 file/get/190842923?profile=original
ATTENDEE;ROLE=REQ-PARTICIPANT;PARTSTAT=ACCEPTED;RSVP=TRUE;CN="Martin F
 owler":https://networkinginsurrey.co.uk/profile/MartinFowler
END:VEVENT
END:VCALENDAR
