BEGIN:VCALENDAR
PRODID:NingEventWidget-v1
VERSION:2.0
METHOD:PUBLISH
BEGIN:VTIMEZONE
TZID:Europe/London
X-LIC-LOCATION:Europe/London
BEGIN:DAYLIGHT
TZOFFSETFROM:+0000
TZOFFSETTO:+0100
TZNAME:BST
DTSTART:19700329T010000
RRULE:FREQ=YEARLY;BYMONTH=3;BYDAY=-1SU
END:DAYLIGHT
BEGIN:STANDARD
TZOFFSETFROM:+0100
TZOFFSETTO:+0000
TZNAME:GMT
DTSTART:19701025T020000
RRULE:FREQ=YEARLY;BYMONTH=10;BYDAY=-1SU
END:STANDARD
END:VTIMEZONE
BEGIN:VEVENT
UID:4626108:Event:344230
DTSTAMP:20260422T091514Z
SUMMARY:GUEST EVENT: Enterprise Connexions Breakfast, London Heathrow
DESCRIPTION:ECX London Heathrow\r\n\r\nAcross the county line in West 
 London, Martin Fowler is expanding his empire! We occasionally feature
  such 'non-Surrey' events to encourage Members to spread their network
 ing wings a little...\r\nWatch our 42-seconds Welcome Video here...\r
 \nOur London Heathrow meetings are held fortnightly on a Friday from 
 7.00am to 8.30am.\r\nZoom virtual meeting style, where you can promote
  your business and make meaningful contacts. \r\nAttendance fee - £1
 5.00 \r\nCLICK HERE to BOOK  \r\n\r\nAgenda\r\n7.00 – 7.15 AM Lo
 gin and Virtual networking \r\n7.15 – 8.30 AM Formal meeting, givin
 g you the opportunity to promote your business and hear about others.\
 r\nAfter the formal meeting, you’re invited to continue building you
 r network connexions until 9am, where the meeting room will be closed.
 \r\nCOST: £15 meeting fee (+ £1.58 booking fee) \r\nBOOKING: Pleas
 e CLICK HERE to book\r\n\n\nFor more information visit https://netwo
 rkinginsurrey.co.uk/events/guest-event-enterprise-connexions-breakfast
 -london-heathrow-30
DTSTART;TZID=Europe/London:20200515T070000
DTEND;TZID=Europe/London:20200515T083000
CATEGORIES:breakfast, hayes, middlesex, heathrow, enterprise, connexio
 ns
LOCATION:Online only
WEBSITE:https://www.google.com/maps/place/Holiday+Inn+M4+J4/@51.494793
 ,-0.458366,17z/data=!3m1!4b1!4m5!3m4!1s0x487672164c62f469:0x962685eb75
 08d096!8m2!3d51.494793!4d-0.456172
URL:https://www.google.com/maps/place/Holiday+Inn+M4+J4/@51.494793,-0.
 458366,17z/data=!3m1!4b1!4m5!3m4!1s0x487672164c62f469:0x962685eb7508d0
 96!8m2!3d51.494793!4d-0.456172
CONTACT:07804 693122
ORGANIZER:Soraya Anderson
ATTACH;FMTTYPE="image/jpeg":https://storage.ning.com/topology/rest/1.0
 /file/get/190836189?profile=original
ATTENDEE;ROLE=REQ-PARTICIPANT;PARTSTAT=ACCEPTED;RSVP=TRUE;CN="Martin F
 owler":https://networkinginsurrey.co.uk/profile/MartinFowler
END:VEVENT
END:VCALENDAR
