BEGIN:VCALENDAR
PRODID:NingEventWidget-v1
VERSION:2.0
METHOD:PUBLISH
BEGIN:VTIMEZONE
TZID:Europe/London
X-LIC-LOCATION:Europe/London
BEGIN:DAYLIGHT
TZOFFSETFROM:+0000
TZOFFSETTO:+0100
TZNAME:BST
DTSTART:19700329T010000
RRULE:FREQ=YEARLY;BYMONTH=3;BYDAY=-1SU
END:DAYLIGHT
BEGIN:STANDARD
TZOFFSETFROM:+0100
TZOFFSETTO:+0000
TZNAME:GMT
DTSTART:19701025T020000
RRULE:FREQ=YEARLY;BYMONTH=10;BYDAY=-1SU
END:STANDARD
END:VTIMEZONE
BEGIN:VEVENT
UID:4626108:Event:286983
DTSTAMP:20260422T225336Z
SUMMARY:GUEST EVENT: Enterprise Connexions Breakfast, Farnborough
DESCRIPTION:ECX at the Holiday Inn Farnborough\r\n\r\nAcross the count
 y line in West London, Martin Fowler is expanding his empire! We occas
 ionally feature such 'non-Surrey' events to encourage Members to sprea
 d their networking wings a little  - to watch our 1-minute intro vi
 deo, please click here...\r\nOur Farnborough meetings are held fortnig
 htly on a Friday from 6.30am to 8.30am. Boardroom style, where you can
  promote your business and make meaningful contacts.\r\nAttendance fee
  - £15.00\r\nCLICK HERE to BOOK \r\nCar Parking at the venue\r\nThe
 re is complimentary onsite parking. Please enter your registration num
 ber at reception.\r\nAgenda\r\n6.30 – 7.00 AM Arrive and mingle.\r\n
 7.00 – 7.15 AM Grab your breakfast.\r\n7.15 – 8.30 AM Formal meeti
 ng, giving you the opportunity to promote your business and hear about
  others.\r\nAfter the formal meeting, you’re invited to continue bui
 lding your network connexions over more tea and coffee. \r\nFor the M
 eeting\r\nBring plenty of business cards and marketing material to pro
 mote your business and ‘Dress for success’\r\nNB For Health & Safe
 ty reasons, no open-toed shoes or bare feet are permitted.\r\nCOST: £
 15 meeting fee (+ £1.58 booking fee) including breaKfast\r\nBOOKING:
  Please CLICK HERE to book\r\nMAP\n\nFor more information visit https
 ://networkinginsurrey.co.uk/events/guest-event-enterprise-connexions-b
 reakfast-farnborough-24
DTSTART;TZID=Europe/London:20200228T063000
DTEND;TZID=Europe/London:20200228T083000
CATEGORIES:breakfast, hampshire, fleet, farnborough, enterprise, conne
 xions
LOCATION:Holiday Inn Farnborough
WEBSITE:http://www.hifarnboroughhotel.co.uk/
URL:http://www.hifarnboroughhotel.co.uk/
CONTACT:07572 453883
ORGANIZER;CN="Martin Fowler":https://networkinginsurrey.co.uk/profile/
 MartinFowler
ATTACH;FMTTYPE="image/jpeg":https://storage.ning.com/topology/rest/1.0
 /file/get/199568486?profile=original
ATTENDEE;ROLE=REQ-PARTICIPANT;PARTSTAT=ACCEPTED;RSVP=TRUE;CN="Martin F
 owler":https://networkinginsurrey.co.uk/profile/MartinFowler
END:VEVENT
END:VCALENDAR
