BEGIN:VCALENDAR
PRODID:NingEventWidget-v1
VERSION:2.0
METHOD:PUBLISH
BEGIN:VTIMEZONE
TZID:Europe/London
X-LIC-LOCATION:Europe/London
BEGIN:DAYLIGHT
TZOFFSETFROM:+0000
TZOFFSETTO:+0100
TZNAME:BST
DTSTART:19700329T010000
RRULE:FREQ=YEARLY;BYMONTH=3;BYDAY=-1SU
END:DAYLIGHT
BEGIN:STANDARD
TZOFFSETFROM:+0100
TZOFFSETTO:+0000
TZNAME:GMT
DTSTART:19701025T020000
RRULE:FREQ=YEARLY;BYMONTH=10;BYDAY=-1SU
END:STANDARD
END:VTIMEZONE
BEGIN:VEVENT
UID:4626108:Event:287128
DTSTAMP:20260423T013114Z
SUMMARY:GUEST EVENT: Enterprise Connexions Breakfast, Farnborough
DESCRIPTION:ECX (Guest Day) at the Holiday Inn Farnborough\r\n\r\n\r\
 n\r\nAcross the county line in West London, Martin Fowler is expanding
  his empire! We occasionally feature such 'non-Surrey' events to encou
 rage Members to spread their networking wings a little  - to watch o
 ur 1-minute intro video, please click here...\r\nLove Your Business a
 nd make a date with us on Friday 14th February 2020 from 6.30am to 8.3
 0am\r\nAttendance fee - £15.00\r\nCLICK HERE to BOOK \r\nCar Parkin
 g at the venue\r\nThere is complimentary onsite parking. Please enter 
 your registration number at reception.\r\nAgenda\r\n6.30 – 7.00 AM A
 rrive and mingle.\r\n7.00 – 7.15 AM Grab your breakfast.\r\n7.15 –
  8.30 AM Formal meeting, giving you the opportunity to promote your bu
 siness and hear about others.\r\nAfter the formal meeting, you’re in
 vited to continue building your network connexions over more tea and c
 offee. \r\nFor the Meeting\r\nBring plenty of business cards and mark
 eting material to promote your business and ‘Dress for success’\r\
 nNB For Health & Safety reasons, no open-toed shoes or bare feet are p
 ermitted.\r\nCOST: £15 meeting fee (+ £1.58 booking fee) including 
 breaKfast\r\nBOOKING: Please CLICK HERE to book\r\nMAP\n\nFor more in
 formation visit https://networkinginsurrey.co.uk/events/guest-event-en
 terprise-connexions-breakfast-farnborough-23
DTSTART;TZID=Europe/London:20200214T063000
DTEND;TZID=Europe/London:20200214T083000
CATEGORIES:breakfast, hampshire, fleet, farnborough, enterprise, conne
 xions
LOCATION:Holiday Inn Farnborough
WEBSITE:http://www.hifarnboroughhotel.co.uk/
URL:http://www.hifarnboroughhotel.co.uk/
CONTACT:07572 453883
ORGANIZER;CN="Martin Fowler":https://networkinginsurrey.co.uk/profile/
 MartinFowler
ATTACH;FMTTYPE="image/jpeg":https://storage.ning.com/topology/rest/1.0
 /file/get/199568486?profile=original
ATTENDEE;ROLE=REQ-PARTICIPANT;PARTSTAT=ACCEPTED;RSVP=TRUE;CN="Martin F
 owler":https://networkinginsurrey.co.uk/profile/MartinFowler
END:VEVENT
END:VCALENDAR
