BEGIN:VCALENDAR
PRODID:NingEventWidget-v1
VERSION:2.0
METHOD:PUBLISH
BEGIN:VTIMEZONE
TZID:Europe/London
X-LIC-LOCATION:Europe/London
BEGIN:DAYLIGHT
TZOFFSETFROM:+0000
TZOFFSETTO:+0100
TZNAME:BST
DTSTART:19700329T010000
RRULE:FREQ=YEARLY;BYMONTH=3;BYDAY=-1SU
END:DAYLIGHT
BEGIN:STANDARD
TZOFFSETFROM:+0100
TZOFFSETTO:+0000
TZNAME:GMT
DTSTART:19701025T020000
RRULE:FREQ=YEARLY;BYMONTH=10;BYDAY=-1SU
END:STANDARD
END:VTIMEZONE
BEGIN:VEVENT
UID:4626108:Event:104008
DTSTAMP:20260423T222555Z
SUMMARY:Enterprise Connexions Breakfast, Farnham
DESCRIPTION:Enterprise Connexions at the Farnham House Hotel\n\nhttps
 ://www.youtube.com/watch?v=WB5vpy77q_8\nAt our meetings you will engag
 e with a diverse range of Go to experts, gaining direct introductions 
 to skills & insights.\nYou'll meet potential new customers & great new
  suppliers, who can help develop your business, & get you closer to wh
 ere you want to be …. plus you'll have a great breakfast while you'r
 e at it!\nWe look forward to welcoming you at one of our business brea
 kfast meetings to and sharing the ECX experience.\nAttendance fee for 
 this business meeting is £15.00 (cash only), which includes tea, co
 ffee & breakfast. CLICK HERE to BOOK  \nOur biweekly business meeti
 ng agenda is: \n\n6.30 – 7.00 AM     Rock up & mingle with othe
 r attendees & fellow members.\n7.00 – 7.15 AM     Grab yourself 
 a breakfast.\n7.15 – 8.30 AM     Formal meeting, where you’ll 
 have the opportunity to promote your business various ways.\n8.30 –
  9.00 AM     Great opportunity to engage further with other attend
 ees over more tea & coffee.\n\nWhat do I need:\n\nYourself – dress 
 smartly / business like (Please Note - We have a 'No Jeans' Policy an
 d for Health and Safety reasons, no opened toed shoes or bare feet.)\n
 Business card and Marketing material. (Please note Roll up banners or
  alike, are not permitted for non-members / visitors.)\n\nAt the venue
 :\n\nThere is complimentary onsite parking - Heron Wood Road or at the
  other side of the venue, off Guildford Road.\n\nBOOKING: Please CLICK
  HERE to book\nMAP\n\nFor more information visit https://networkingin
 surrey.co.uk/events/guest-event-enterprise-connexions-breakfast-alders
 hot-6
DTSTART;TZID=Europe/London:20190424T063000
DTEND;TZID=Europe/London:20190424T090000
CATEGORIES:breakfast, surrey, farnham, enterprise, connexions
LOCATION:Farnham House Hotel GU10 5ER
WEBSITE:https://www.google.com/maps/place/Farnham+House+Hotel/@51.2041
 823,-0.838089,17z/data=!3m1!4b1!4m5!3m4!1s0x48742dac267e6393:0x5ae0745
 b888740bb!8m2!3d51.2041823!4d-0.8359003
URL:https://www.google.com/maps/place/Farnham+House+Hotel/@51.2041823,
 -0.838089,17z/data=!3m1!4b1!4m5!3m4!1s0x48742dac267e6393:0x5ae0745b888
 740bb!8m2!3d51.2041823!4d-0.8359003
CONTACT:07572 453883
ORGANIZER;CN="Martin Fowler":https://networkinginsurrey.co.uk/profile/
 MartinFowler
ATTACH;FMTTYPE="image/jpeg":https://storage.ning.com/topology/rest/1.0
 /file/get/190842923?profile=original
ATTENDEE;ROLE=REQ-PARTICIPANT;PARTSTAT=ACCEPTED;RSVP=TRUE;CN="Martin F
 owler":https://networkinginsurrey.co.uk/profile/MartinFowler
END:VEVENT
END:VCALENDAR
