BEGIN:VCALENDAR
PRODID:NingEventWidget-v1
VERSION:2.0
METHOD:PUBLISH
BEGIN:VTIMEZONE
TZID:Europe/London
X-LIC-LOCATION:Europe/London
BEGIN:DAYLIGHT
TZOFFSETFROM:+0000
TZOFFSETTO:+0100
TZNAME:BST
DTSTART:19700329T010000
RRULE:FREQ=YEARLY;BYMONTH=3;BYDAY=-1SU
END:DAYLIGHT
BEGIN:STANDARD
TZOFFSETFROM:+0100
TZOFFSETTO:+0000
TZNAME:GMT
DTSTART:19701025T020000
RRULE:FREQ=YEARLY;BYMONTH=10;BYDAY=-1SU
END:STANDARD
END:VTIMEZONE
BEGIN:VEVENT
UID:4626108:Event:101546
DTSTAMP:20260424T131957Z
SUMMARY:GUEST EVENT: Enterprise Connexions Breakfast, Aldershot
DESCRIPTION:Enterprise Connexions atÂ the Aldershot & Fleet Rugby Club
 \r\n\r\nAcross the county line in West London, Martin Fowler is expand
 ing his empire! We occasionally feature such 'non-Surrey' events to en
 courage Members to spread their networking wings a little -Â Â Â - to 
 watch ourÂ 1-minute intro video, please click here...\r\nAt our meetin
 gs you will engage with a diverse range of Go to experts, gaining dire
 ct introductions to skills & insights.\r\nYou'll meet potential new cu
 stomers & great new suppliers, who can help develop your business, & g
 et you closer to where you want to be â€¦. plus you'll have a great br
 eakfast while you're at it!\r\nWe look forward to welcoming you at one
  of our business breakfast meetings to and sharing the ECX experience.
 \r\nAttendance fee for this business meeting isÂ Â£15.00Â (cash only),
  which includes tea, coffee & breakfast.Â CLICK HEREÂ to BOOK Â \r\nOu
 r biweekly business meeting agenda is:Â \r\n\r\n6.30 â€“ 7.00 AMÂ Â Â 
 Â  Rock up & mingle with other attendees & fellow members.\r\n7.00 â€“
  7.15 AMÂ Â Â Â  Grab yourself a breakfast.\r\n7.15 â€“ 8.30 AMÂ Â Â Â
   Formal meeting, where youâ€™ll have the opportunity to promote yourÂ
  business various ways.\r\n8.30 â€“ 9.00 AMÂ Â Â Â  Great opportunity 
 to engage further with other attendees over more tea &Â coffee.\r\n\r\
 nWhat do I need:\r\n\r\nYourself â€“ dress smartly / business likeÂ (P
 lease Note - We have a 'No Jeans' Policy and for Health and Safety rea
 sons, no opened toed shoes or bare feet.)\r\nBusiness card and Marketi
 ng material.Â (Please note Roll up banners or alike, are not permitted
  for non-members / visitors.)\r\n\r\nAt the venue:\r\n\r\nThere is com
 plimentary onsite parking - Heron Wood Road or at the other side of th
 e venue, off Guildford Road.\r\n\r\nCOST: Â£16 includingÂ tea, coffee 
 & breakfast\r\nBOOKING: Please CLICK HEREÂ to book\r\nMAP\n\nFor more 
 information visit https://networkinginsurrey.co.uk/events/guest-event-
 enterprise-connexions-aldershot-13
DTSTART;TZID=Europe/London:20181205T063000
DTEND;TZID=Europe/London:20181205T090000
CATEGORIES:breakfast, hampshire, aldershot, enterprise, connexions
LOCATION:Aldershot and Fleet RUFC GU12 4AL
WEBSITE:http://www.pitchero.com/clubs/aldershotfleet/
URL:http://www.pitchero.com/clubs/aldershotfleet/
CONTACT:07572 453883
ORGANIZER;CN="Martin Fowler":https://networkinginsurrey.co.uk/profile/
 MartinFowler
ATTACH;FMTTYPE="image/jpeg":https://storage.ning.com/topology/rest/1.0
 /file/get/180349080?profile=original
ATTENDEE;ROLE=REQ-PARTICIPANT;PARTSTAT=ACCEPTED;RSVP=TRUE;CN="Martin F
 owler":https://networkinginsurrey.co.uk/profile/MartinFowler
END:VEVENT
END:VCALENDAR
