BEGIN:VCALENDAR
PRODID:NingEventWidget-v1
VERSION:2.0
METHOD:PUBLISH
BEGIN:VTIMEZONE
TZID:Europe/London
X-LIC-LOCATION:Europe/London
BEGIN:DAYLIGHT
TZOFFSETFROM:+0000
TZOFFSETTO:+0100
TZNAME:BST
DTSTART:19700329T010000
RRULE:FREQ=YEARLY;BYMONTH=3;BYDAY=-1SU
END:DAYLIGHT
BEGIN:STANDARD
TZOFFSETFROM:+0100
TZOFFSETTO:+0000
TZNAME:GMT
DTSTART:19701025T020000
RRULE:FREQ=YEARLY;BYMONTH=10;BYDAY=-1SU
END:STANDARD
END:VTIMEZONE
BEGIN:VEVENT
UID:4626108:Event:100124
DTSTAMP:20260422T000244Z
SUMMARY:Networking Morning ECX100 - London Kingston
DESCRIPTION:Enterprise Connexions at the DoubleTree by Hilton Kingston
 Â \r\nWhat is an ECX100 Event\r\nECX100 is a pre payable ticketed Netw
 orking Event, which is open to ALL businesses of ALL sizes, to gain co
 llaborative business connections & build long-lasting supportive busin
 ess relationships.Â \r\nhttps://www.youtube.com/watch?v=YqbFiRV0NI8&t\
 r\n\r\nThe Networking Event Agenda\r\n6.00 â€“ 7.00 AMÂ Â Â Â \r\n\r\n
 Rock up & mingle with other attendees & fellow members & grab yourself
  a breakfast.\r\n\r\n7.00 â€“ 11.00 AMÂ \r\n\r\nThe Networking Event c
 ommences kicking off with you having the opportunity to promote your b
 usiness to the room.\r\nThis is swiftly followed by 1 hour of Networki
 ng the room enabling you to engage & start building those all-importan
 t relationships, empowering you to collaborate with other business own
 ers.\r\nWe are aware it may be impossible to get to speak to everyone 
 in the room. To ensure you take full advantage of those who have atten
 ded the Networking Event, you have the opportunity to make direct conn
 exions to facilitate 1 2 1â€™s after the event.Â \r\n\r\nWhat do I nee
 d:Â \r\n\r\nYourself â€“ dress smartly / business like(Please Note - W
 e have a 'No Jeans' Policy & for Health & Safety reasons, no opened to
 ed shoes or bare feet.)\r\nBusiness card & Marketing material.Â (Pleas
 e note Roll up banners or alike, are not permitted for non-members / v
 isitors.) You can place your business cards & marketing material on th
 e marketing table in the room, for all attendees to retrieve.\r\n\r\nF
 ollow us onÂ @ECX_London on Twitter & keep an eye out forÂ #ECX100Â po
 sts.\r\nCOST:Â Â£27.50Â includes a Breakfast & bottomless Tea & Coffee
  Water & Juice.\r\nBOOKING: PleaseÂ CLICK HEREÂ to book\r\nMAP\r\nTher
 e is chargeable parking at Seven Kings Car park opposite the venue. (Â
 £1 per hour from 7am)\r\nÂ \n\nFor more information visit https://netw
 orkinginsurrey.co.uk/events/guest-event-ecx100-london-kingston
DTSTART;TZID=Europe/London:20180927T060000
DTEND;TZID=Europe/London:20180927T110000
CATEGORIES:breakfast, kingston, surrey, enterprise, connexions
LOCATION:DoubleTree by Hilton Kingston
WEBSITE:http://doubletree3.hilton.com/en/hotels/united-kingdom/doublet
 ree-by-hilton-hotel-london-kingston-upon-thames-LONKTDI/index.html
URL:http://doubletree3.hilton.com/en/hotels/united-kingdom/doubletree-
 by-hilton-hotel-london-kingston-upon-thames-LONKTDI/index.html
CONTACT:07572453883
ORGANIZER;CN="Martin Fowler":https://networkinginsurrey.co.uk/profile/
 MartinFowler
ATTACH;FMTTYPE="image/jpeg":http://storage.ning.com/topology/rest/1.0/
 file/get/199838061?profile=original
ATTENDEE;ROLE=REQ-PARTICIPANT;PARTSTAT=ACCEPTED;RSVP=TRUE;CN="Martin F
 owler":https://networkinginsurrey.co.uk/profile/MartinFowler
END:VEVENT
END:VCALENDAR
