BEGIN:VCALENDAR
PRODID:NingEventWidget-v1
VERSION:2.0
METHOD:PUBLISH
BEGIN:VTIMEZONE
TZID:Europe/London
X-LIC-LOCATION:Europe/London
BEGIN:DAYLIGHT
TZOFFSETFROM:+0000
TZOFFSETTO:+0100
TZNAME:BST
DTSTART:19700329T010000
RRULE:FREQ=YEARLY;BYMONTH=3;BYDAY=-1SU
END:DAYLIGHT
BEGIN:STANDARD
TZOFFSETFROM:+0100
TZOFFSETTO:+0000
TZNAME:GMT
DTSTART:19701025T020000
RRULE:FREQ=YEARLY;BYMONTH=10;BYDAY=-1SU
END:STANDARD
END:VTIMEZONE
BEGIN:VEVENT
UID:4626108:Event:103918
DTSTAMP:20260424T094036Z
SUMMARY:GUEST EVENT: ECX100 - Farnborough
DESCRIPTION:Enterprise Connexions at The Holiday Inn Farnborough\n\nE
 CX100 Networking Events\nThese events are some of the biggest networki
 ng opportunities around, intended to rapidly grow your network, with u
 p to 100 businesses in the room for the sole purpose of making new and
  useful connections. They are ticketed networking events, which are 
 open to businesses of ALL sizes. These events bring together the ke
 y-players in a region, offering you the opportunity to promote yoursel
 f to your prospective customers, and potentially pick up some great su
 ppliers along the way too.\nThe Agenda\n6.00 – 7.00 AM   \n\nArriv
 e, free-flow networking, grab breakfast.\n\n 7.00 – 11.00 AM  \n\
 nThe Networking Event commences. Time is allocated for every attende
 e to promote their business to the room.\nNext, there is 1 hour for fr
 ee-flow networking, enabling you to connect with the businesses that Y
 OU feel are most relevant to YOUR business.\nWe know you will not be a
 ble to connect with everyone in the room on the day. To maximise your 
 time, we bring everyone back together, giving you the opportunity to n
 ame those you’re intending to connect with after the event. This is 
 designed to facilitate 121s.\n\nN.B. Bottomless tea, coffee, water an
 d juice is available for all attendees from 6am to 11am. After this t
 ime, hot and cold beverages can be purchased from the bar.\nThe Cost\n
 The early-bird ticket is £15.00 which includes breakfast and bott
 omless tea, coffee, water and Juice. If you miss the early-bird ticket
 , the ticket price is £25.00.\nBOOKING: Please CLICK HERE to book\nW
 hat do I need? \n\nYourself – dress smartly/in business attire. (Pl
 ease note, we have a no-jeans policy and, for Health & Safety reasons,
  no open-toed shoes or bare feet are permitted.)\nBusiness cards and m
 arketing materials. (Please note, roll-up banners or similar are not 
 permitted for non-members/visitors.) You can place your business cards
  & marketing materials on the marketing table in the room, for all att
 endees to pick-up. You’ll also want a good supply of business cards 
 in your pocket/bag to hand-out during conversations with other attende
 es.\n\n At the venue: \n\nThere is complimentary onsite parking. Ple
 ase register your vehicle at reception to prevent a parking fee.\n\n 
 Follow us on @ECX_Hants on Twitter & keep an eye out for #ECX100 p
 osts.\nMAP\n\nFor more information visit https://networkinginsurrey.co
 .uk/events/guest-event-ecx100-farnborough
DTSTART;TZID=Europe/London:20190426T060000
DTEND;TZID=Europe/London:20190426T110000
CATEGORIES:breakfast, hampshire, fleet, farnborough, enterprise, conne
 xions
LOCATION:The Holiday Inn Farnborough
WEBSITE:http://www.hifarnboroughhotel.co.uk/
URL:http://www.hifarnboroughhotel.co.uk/
CONTACT:01252 546 654
ORGANIZER;CN="Martin Fowler":https://networkinginsurrey.co.uk/profile/
 MartinFowler
ATTACH;FMTTYPE="image/jpeg":https://storage.ning.com/topology/rest/1.0
 /file/get/199568486?profile=original
ATTENDEE;ROLE=REQ-PARTICIPANT;PARTSTAT=ACCEPTED;RSVP=TRUE;CN="Martin F
 owler":https://networkinginsurrey.co.uk/profile/MartinFowler
END:VEVENT
END:VCALENDAR
