BEGIN:VCALENDAR
PRODID:NingEventWidget-v1
VERSION:2.0
METHOD:PUBLISH
BEGIN:VTIMEZONE
TZID:Europe/London
X-LIC-LOCATION:Europe/London
BEGIN:DAYLIGHT
TZOFFSETFROM:+0000
TZOFFSETTO:+0100
TZNAME:BST
DTSTART:19700329T010000
RRULE:FREQ=YEARLY;BYMONTH=3;BYDAY=-1SU
END:DAYLIGHT
BEGIN:STANDARD
TZOFFSETFROM:+0100
TZOFFSETTO:+0000
TZNAME:GMT
DTSTART:19701025T020000
RRULE:FREQ=YEARLY;BYMONTH=10;BYDAY=-1SU
END:STANDARD
END:VTIMEZONE
BEGIN:VEVENT
UID:4626108:Event:74810
DTSTAMP:20260425T225953Z
SUMMARY:GUEST EVENT: Business over Breakfast, Heathrow
DESCRIPTION:Business over Breakfast at the \nMercure London Heathrow\
 n\nIts our 1st Birthday and we are Celebrating with a some Fizz over B
 reakfast :) \nAcross the county line in Hampshire, Martin Fowler (The
  BoB Meister) is expanding his BoB empire! We occasionally feature suc
 h 'non-Surrey' events to encourage Members to spread their networking 
 wings a little...\nOur concept is to facilitate collaboration and syne
 rgies between businesses and being part of a team.   The meeting door
 s open at 6.30am with the aim to start breakfast at 7.00am. The half h
 our slot will provide you the time to get a hot or cold beverage and c
 irculate with other guests and members of the group.   We aim to fini
 sh the actual meeting by 8.30am, but we do encourage our guests and me
 mbers to diarise their time until 9.00am, to allow you to connect with
  other attendees or indeed arrange a 121, to begin building those all 
 important business relationships.   During the meeting you will have 
 the opportunity to present / showcase your business to your prospectiv
 e sales team for 60 seconds. As a member you have the added benefit to
  showcase your business for 10 – 15 minutes, which is scheduled by t
 he speaker co-ordinator of the group.  Come along to one of the meetin
 gs hosted by BoB Hampshire and experience first-hand, how being part o
 f such a group can enhance your business through a supportive and coll
 aborative group of likeminded business people and a well-structured, y
 et fun meeting.\nCOST: £12 meeting fee (including breakfast)\nBOOKING
 : Please CLICK HERE to book\nMAP\nComplimentary Parking\n \n\nFor m
 ore information visit https://networkinginsurrey.co.uk/events/guest-ev
 ent-business-over-breakfast-heathrow-292
DTSTART;TZID=Europe/London:20151106T063000
DTEND;TZID=Europe/London:20151106T090000
CATEGORIES:breakfast, hayes, middlesex, heathrow, bob_clubs
LOCATION:Mercure London Heathrow
WEBSITE:http://www.mercure.com/gb/hotel-9651-mercure-london-heathrow/i
 ndex.shtml
URL:http://www.mercure.com/gb/hotel-9651-mercure-london-heathrow/index
 .shtml
CONTACT:07572453883
ORGANIZER;CN="Martin Fowler":https://networkinginsurrey.co.uk/profile/
 MartinFowler
ATTACH;FMTTYPE="image/jpeg":http://storage.ning.com/topology/rest/1.0/
 file/get/2591445200?profile=original
ATTENDEE;ROLE=REQ-PARTICIPANT;PARTSTAT=ACCEPTED;RSVP=TRUE;CN="Martin F
 owler":https://networkinginsurrey.co.uk/profile/MartinFowler
ATTENDEE;ROLE=REQ-PARTICIPANT;PARTSTAT=ACCEPTED;RSVP=TRUE;CN="Soraya A
 nderson":https://networkinginsurrey.co.uk/profile/SorayaAnderson
END:VEVENT
END:VCALENDAR
