BEGIN:VCALENDAR
PRODID:NingEventWidget-v1
VERSION:2.0
METHOD:PUBLISH
BEGIN:VTIMEZONE
TZID:Europe/London
X-LIC-LOCATION:Europe/London
BEGIN:DAYLIGHT
TZOFFSETFROM:+0000
TZOFFSETTO:+0100
TZNAME:BST
DTSTART:19700329T010000
RRULE:FREQ=YEARLY;BYMONTH=3;BYDAY=-1SU
END:DAYLIGHT
BEGIN:STANDARD
TZOFFSETFROM:+0100
TZOFFSETTO:+0000
TZNAME:GMT
DTSTART:19701025T020000
RRULE:FREQ=YEARLY;BYMONTH=10;BYDAY=-1SU
END:STANDARD
END:VTIMEZONE
BEGIN:VEVENT
UID:4626108:Event:64050
DTSTAMP:20260420T083813Z
SUMMARY:GUEST EVENT: Business over Breakfast, Fleet
DESCRIPTION:Business over Breakfast at The Heron on the Lake\n\n \nA
 cross the county line in Hampshire, Martin Fowler (The BoB Meister) is
  expanding his BoB empire! We occasionally feature such 'non-Surrey' e
 vents to encourage Members to spread their networking wings a little..
 .\nWe are looking for many Business Sectors. The more visitors we have
 , the better the meeting. So why not drop me a line to come and join u
 s.\nFor those of you who may have tried networking before and felt und
 er pressure to refer each week, try BoB Networking as we concentrate o
 n quality referrals rather than quantity at our meetings.\nWe’d lik
 e to invite you to come and find out for yourself how BoB would work f
 or you.\nSo, come along and try our lively group - and learn more abou
 t how networking through BoB clubs can make ALL the difference to your
  bottom line!\nIf you would like to attend this meeting and meet like 
 minded business people, please forward your email address and contact 
 details and the appropriate invitation can be sent to you.\nCOST: £12
  visitors meeting fee (including breakfast)\nBOOKING: Please CLICK HER
 E to book\nMAP\n\nFor more information visit https://networkinginsurr
 ey.co.uk/events/guest-event-business-over-breakfast-fleet-5
DTSTART;TZID=Europe/London:20140502T063000
DTEND;TZID=Europe/London:20140502T083000
CATEGORIES:breakfast, hampshire, fleet, bob_clubs
LOCATION:The Heron on the Lake GU51 2RY
WEBSITE:http://www.mcmullens.co.uk/theherononthelake
URL:http://www.mcmullens.co.uk/theherononthelake
CONTACT:01252 812522
ORGANIZER;CN="Martin Fowler":https://networkinginsurrey.co.uk/profile/
 MartinFowler
ATTACH;FMTTYPE="image/jpeg":http://storage.ning.com/topology/rest/1.0/
 file/get/623313108?profile=original
ATTENDEE;ROLE=REQ-PARTICIPANT;PARTSTAT=ACCEPTED;RSVP=TRUE;CN="Martin F
 owler":https://networkinginsurrey.co.uk/profile/MartinFowler
ATTENDEE;ROLE=REQ-PARTICIPANT;PARTSTAT=TENTATIVE;RSVP=TRUE;CN="Tara Lo
 we":https://networkinginsurrey.co.uk/profile/TaraLowe25
END:VEVENT
END:VCALENDAR
