BEGIN:VCALENDAR
PRODID:NingEventWidget-v1
VERSION:2.0
METHOD:PUBLISH
BEGIN:VTIMEZONE
TZID:Europe/London
X-LIC-LOCATION:Europe/London
BEGIN:DAYLIGHT
TZOFFSETFROM:+0000
TZOFFSETTO:+0100
TZNAME:BST
DTSTART:19700329T010000
RRULE:FREQ=YEARLY;BYMONTH=3;BYDAY=-1SU
END:DAYLIGHT
BEGIN:STANDARD
TZOFFSETFROM:+0100
TZOFFSETTO:+0000
TZNAME:GMT
DTSTART:19701025T020000
RRULE:FREQ=YEARLY;BYMONTH=10;BYDAY=-1SU
END:STANDARD
END:VTIMEZONE
BEGIN:VEVENT
UID:4626108:Event:69172
DTSTAMP:20260420T075116Z
SUMMARY:GUEST EVENT: Business over Breakfast, Fleet
DESCRIPTION:Business over Breakfast at The Heron on the Lake\n\nAcros
 s the county line in Hampshire, Martin Fowler (The BoB Meister) is exp
 anding his BoB empire! We occasionally feature such 'non-Surrey' event
 s to encourage Members to spread their networking wings a little...\nO
 ur concept is to facilitate collaboration and synergies between busine
 sses and being part of a team. The meeting doors open at 6.30am with 
 the aim to start breakfast at 7.00am. The half hour slot will provide 
 you the time to get a hot or cold beverage and circulate with other gu
 ests and members of the group. We aim to finish the actual meeting by
  8.30am, but we do encourage our guests and members to diarise their t
 ime until 9.00am, to allow you to connect with other attendees or inde
 ed arrange a 121, to begin building those all important business relat
 ionships. During the meeting you will have the opportunity to present
  / showcase your business to your prospective sales team for 60 second
 s. As a member you have the added benefit to showcase your business fo
 r 10 – 15 minutes, which is scheduled by the speaker co-ordinator of
  the group.Come along to one of the meetings hosted by BoB Hampshire a
 nd experience first-hand, how being part of such a group can enhance y
 our business through a supportive and collaborative group of likeminde
 d business people and a well-structured, yet fun meeting.\nCOST: £12 
 meeting fee (including breakfast)\nBOOKING: Please CLICK HERE to book
 \nMAP\n\nFor more information visit https://networkinginsurrey.co.uk/e
 vents/guest-event-business-over-breakfast-fleet-19
DTSTART;TZID=Europe/London:20141114T063000
DTEND;TZID=Europe/London:20141114T083000
CATEGORIES:breakfast, hampshire, fleet, bob_clubs
LOCATION:The Heron on the Lake GU51 2RY
WEBSITE:http://www.mcmullens.co.uk/theherononthelake
URL:http://www.mcmullens.co.uk/theherononthelake
CONTACT:01252 812522
ORGANIZER;CN="Martin Fowler":https://networkinginsurrey.co.uk/profile/
 MartinFowler
ATTACH;FMTTYPE="image/jpeg":http://storage.ning.com/topology/rest/1.0/
 file/get/623313108?profile=original
ATTENDEE;ROLE=REQ-PARTICIPANT;PARTSTAT=ACCEPTED;RSVP=TRUE;CN="Martin F
 owler":https://networkinginsurrey.co.uk/profile/MartinFowler
END:VEVENT
END:VCALENDAR
