BEGIN:VCALENDAR
PRODID:NingEventWidget-v1
VERSION:2.0
METHOD:PUBLISH
BEGIN:VTIMEZONE
TZID:Europe/London
X-LIC-LOCATION:Europe/London
BEGIN:DAYLIGHT
TZOFFSETFROM:+0000
TZOFFSETTO:+0100
TZNAME:BST
DTSTART:19700329T010000
RRULE:FREQ=YEARLY;BYMONTH=3;BYDAY=-1SU
END:DAYLIGHT
BEGIN:STANDARD
TZOFFSETFROM:+0100
TZOFFSETTO:+0000
TZNAME:GMT
DTSTART:19701025T020000
RRULE:FREQ=YEARLY;BYMONTH=10;BYDAY=-1SU
END:STANDARD
END:VTIMEZONE
BEGIN:VEVENT
UID:4626108:Event:69261
DTSTAMP:20260420T135230Z
SUMMARY:GUEST EVENT: BOB Hampshire - Farnborough
DESCRIPTION:BOB Hampshire - Farnborough @ The Snow Goose\nAcross the 
 county line in Hampshire, Martin Fowler (The BoB Meister) is expanding
  his BoB empire! We occasionally feature such 'non-Surrey' events to e
 ncourage Members to spread their networking wings a little...\nOur con
 cept is to facilitate collaboration and synergies between businesses a
 nd being part of a team. \n The meeting doors open at 6.30am with the
  aim to start breakfast at 7.00am. The half hour slot will provide you
  the time to get a hot or cold beverage and circulate with other guest
 s and members of the group.   We aim to finish the actual meeting by 
 8.30am, but we do encourage our guests and members to diarise their ti
 me until 9.00am, to allow you to connect with other attendees or indee
 d arrange a 121, to begin building those all important business relati
 onships.   During the meeting you will have the opportunity to presen
 t / showcase your business to your prospective sales team for 60 secon
 ds. As a member you have the added benefit to showcase your business f
 or 10 – 15 minutes, which is scheduled by the speaker co-ordinator o
 f the group.  Come along to one of the meetings hosted by BoB Hampshir
 e and experience first-hand, how being part of such a group can enhanc
 e your business through a supportive and collaborative group of likemi
 nded business people and a well-structured, yet fun meeting.\nCOST: £
 12 meeting fee (including breakfast)\nBOOKING: Please CLICK HERE to b
 ook\nMAP\n\nFor more information visit https://networkinginsurrey.co.u
 k/events/guest-event-business-over-breakfast-farnborough-8
DTSTART;TZID=Europe/London:20141119T063000
DTEND;TZID=Europe/London:20141119T083000
CATEGORIES:breakfast, hampshire, farnborough, bob_clubs
LOCATION:The Snow Goose
WEBSITE:https://www.facebook.com/pages/The-Snow-Goose-Farnborough-Hant
 s/195307543812592
URL:https://www.facebook.com/pages/The-Snow-Goose-Farnborough-Hants/19
 5307543812592
CONTACT:07572 453883
ORGANIZER;CN="Martin Fowler":https://networkinginsurrey.co.uk/profile/
 MartinFowler
ATTACH;FMTTYPE="image/jpeg":http://storage.ning.com/topology/rest/1.0/
 file/get/623313108?profile=original
ATTENDEE;ROLE=REQ-PARTICIPANT;PARTSTAT=ACCEPTED;RSVP=TRUE;CN="Martin F
 owler":https://networkinginsurrey.co.uk/profile/MartinFowler
END:VEVENT
END:VCALENDAR
