BEGIN:VCALENDAR
PRODID:NingEventWidget-v1
VERSION:2.0
METHOD:PUBLISH
BEGIN:VTIMEZONE
TZID:Europe/London
X-LIC-LOCATION:Europe/London
BEGIN:DAYLIGHT
TZOFFSETFROM:+0000
TZOFFSETTO:+0100
TZNAME:BST
DTSTART:19700329T010000
RRULE:FREQ=YEARLY;BYMONTH=3;BYDAY=-1SU
END:DAYLIGHT
BEGIN:STANDARD
TZOFFSETFROM:+0100
TZOFFSETTO:+0000
TZNAME:GMT
DTSTART:19701025T020000
RRULE:FREQ=YEARLY;BYMONTH=10;BYDAY=-1SU
END:STANDARD
END:VTIMEZONE
BEGIN:VEVENT
UID:4626108:Event:68041
DTSTAMP:20260421T051923Z
SUMMARY:BRAVO Networking Evening, Betchworth
DESCRIPTION:BRAVO's structured networking event with a new theme….'G
 iving & Receiving'\n\nIf you're a Surrey networker wanting to make new
  contacts, then please join us on Thursday 9th October for a networkin
 g evening with\n- structured spotlight sessions (60 sec pitch plus Q&A
 ),\n- 10 minute mini meetings and\n- open networking with food provide
 d.  \n\nAn opportunity to maximise your networking time whilst at the
  event and a comprehensive delegate list is provided to ensure you are
  able to follow-up and nurture the business relationships.  \nCOST: 
 £25 if booked before September 9th and £35 if booked in from Septem
 ber 10th - October 9th.\nBOOKING: Please CLICK HERE to book your plac
 e.  Testimonials, photos and videos of previous events can also be fo
 und on this website along with extensive information about the event.\
 nMAP\n------------------------------------------------------------\nBR
 AVO is a social enterprise, so all profits will be injected back into 
 the community to support cultural projects.\n\nFor more information vi
 sit https://networkinginsurrey.co.uk/events/guest-event-bravo-s-new-bu
 siness-networking-event
DTSTART;TZID=Europe/London:20141009T173000
DTEND;TZID=Europe/London:20141009T213000
CATEGORIES:business, networking
LOCATION:De Vere Hartsfield Manor
WEBSITE:https://maps.google.com/maps?q=Tulleys+Farm,+Turners+Hill+Road
 ,+Crawley,+UK&hl=en&ll=51.104701,-0.101473&spn=0.003133,0.008272&sll=3
 7.0625,-95.677068&sspn=32.38984,67.763672&oq=tulle&t=h&hq=Tulleys+Farm
 ,&hnear=Turners+Hill+Rd,+Crawley+Down,+Crawley+RH10,+United+Kingdom&z=
 17
URL:https://maps.google.com/maps?q=Tulleys+Farm,+Turners+Hill+Road,+Cr
 awley,+UK&hl=en&ll=51.104701,-0.101473&spn=0.003133,0.008272&sll=37.06
 25,-95.677068&sspn=32.38984,67.763672&oq=tulle&t=h&hq=Tulleys+Farm,&hn
 ear=Turners+Hill+Rd,+Crawley+Down,+Crawley+RH10,+United+Kingdom&z=17
CONTACT:07889 304460
ORGANIZER;CN="Louise Camby":https://networkinginsurrey.co.uk/profile/L
 ouiseCamby
ATTACH;FMTTYPE="image/jpeg":http://storage.ning.com/topology/rest/1.0/
 file/get/2591447535?profile=original
ATTENDEE;ROLE=REQ-PARTICIPANT;PARTSTAT=ACCEPTED;RSVP=TRUE;CN="Louise C
 amby":https://networkinginsurrey.co.uk/profile/LouiseCamby
END:VEVENT
END:VCALENDAR
